BEGIN:VCALENDAR
VERSION:2.0
PRODID:-//ChamberMaster//Event Calendar 2.0//EN
METHOD:PUBLISH
X-PUBLISHED-TTL:P3D
REFRESH-INTERVAL:P3D
CALSCALE:GREGORIAN
BEGIN:VEVENT
DTSTART;VALUE=DATE:20140903
DTEND;VALUE=DATE:20140904
TRANSP:TRANSPARENT
X-MICROSOFT-CDO-ALLDAYEVENT:TRUE
SUMMARY:* Yoga Mixed Level
DESCRIPTION:Yoga-Mixed Level Open to all levels of practice and abilities. We breathe mindfully\, practice feeling and flowing movements in a way that stretches and strengthens the entire body\, and provides relaxation for the mind. Modifications to poses will be offered in the class so that you gain the greatest benefit. bring water\, a yoga mat\, and/or a towel with you. $103/$100  Sept. 3 thru Oct. 22 7:30 to 8:45 p.m.\n\nRoudenbush Community Center 65 Main St. Westford MA\n\nFor more details call 978-692-5511 or visit www.roudenbush.org to enroll in classes
X-ALT-DESC;FMTTYPE=text/html:<strong><span style="font-family:times new roman\,serif\;"><span style="font-size:10.5pt\;">Yoga-Mixed Level</span></span></strong><span style="font-family:times new roman\,serif\;"><span style="font-size:10.5pt\;"> Open to all levels of practice and abilities. We breathe mindfully\, practice feeling and flowing movements in a way that stretches and strengthens the entire body\, and provides relaxation for the mind. Modifications to poses will be offered in the class so that you gain the greatest benefit. bring water\, a yoga mat\, and/or a towel with you. $103/$100 &nbsp\;Sept. 3 thru Oct. 22 7:30 to 8:45 p.m.</span></span><br />\n<strong><span style="font-family:times new roman\,serif\;"><span style="font-size:10.5pt\;">Roudenbush Community Center 65 Main St. Westford MA</span></span></strong><br />\n<strong><span style="font-family:times new roman\,serif\;"><span style="font-size:10.5pt\;">For more details call 978-692-5511 or visit </span></span></strong><a href="http://www.roudenbush.org/"><strong><span style="color:windowtext\;"><span style="font-family:times new roman\,serif\;"><span style="font-size:10.5pt\;">www.roudenbush.org</span></span></span></strong></a><strong><span style="font-family:times new roman\,serif\;"><span style="font-size:10.5pt\;"> to enroll in classes</span></span></strong>
LOCATION:
UID:e.518.17939
SEQUENCE:3
DTSTAMP:20260425T011323Z
URL:http://nashoba.preview.gochambermaster.com/events/details/yoga-mixed-level-09-03-2014-17939
END:VEVENT

END:VCALENDAR
