BEGIN:VCALENDAR
VERSION:2.0
PRODID:-//ChamberMaster//Event Calendar 2.0//EN
METHOD:PUBLISH
X-PUBLISHED-TTL:P3D
REFRESH-INTERVAL:P3D
CALSCALE:GREGORIAN
BEGIN:VEVENT
DTSTART;VALUE=DATE:20141017
DTEND;VALUE=DATE:20141018
TRANSP:TRANSPARENT
X-MICROSOFT-CDO-ALLDAYEVENT:TRUE
SUMMARY:* WWI WORKSHOP (Fort Devens Museum)
DESCRIPTION:OCTOBER 17 & 18 WWI WORKSHOP\n\nWe are hosting day 1 of a 2-day workshop with Massachusetts Historical Society focusing on women at home and overseas during WWI. This is a $75 two day workshop and registration is required.\n\n\n\nhttp://www.masshist.org/2012/calendar\,mo=2014-10\,event=1328
X-ALT-DESC;FMTTYPE=text/html:<br />\nOCTOBER 17 &amp\; 18 WWI WORKSHOP<br />\nWe are hosting day 1 of a 2-day workshop with Massachusetts Historical Society focusing on women at home and overseas during WWI. This is a $75 two day workshop and registration is required.<br />\n<br />\nhttp://www.masshist.org/2012/calendar\,mo=2014-10\,event=1328<br />\n<br />\n&nbsp\;
LOCATION:
UID:e.518.18064
SEQUENCE:3
DTSTAMP:20260424T235936Z
URL:http://nashoba.preview.gochambermaster.com/events/details/wwi-workshop-fort-devens-museum-10-17-2014-18064
END:VEVENT

END:VCALENDAR
