BEGIN:VCALENDAR
VERSION:2.0
PRODID:-//ChamberMaster//Event Calendar 2.0//EN
METHOD:PUBLISH
X-PUBLISHED-TTL:P3D
REFRESH-INTERVAL:P3D
CALSCALE:GREGORIAN
BEGIN:VEVENT
DTSTART;VALUE=DATE:20150620
DTEND;VALUE=DATE:20150622
TRANSP:TRANSPARENT
X-MICROSOFT-CDO-ALLDAYEVENT:TRUE
SUMMARY:* Worcester County Crush Softball
DESCRIPTION:www.devenscommunity.com\n\n\n\nJune 20   21 Worcester County Crush Softball Willard Park polarcrushsoftball.org ASA Championships
X-ALT-DESC;FMTTYPE=text/html:www.devenscommunity.com<br />\n<br />\nJune 20 &ndash\; 21 Worcester County Crush Softball Willard Park polarcrushsoftball.org ASA Championships<br />\n<br />\n<br />\n&nbsp\;
LOCATION:
UID:e.518.20964
SEQUENCE:3
DTSTAMP:20260424T035830Z
URL:http://nashoba.preview.gochambermaster.com/events/details/worcester-county-crush-softball-06-20-2015-20964
END:VEVENT

END:VCALENDAR
