BEGIN:VCALENDAR
VERSION:2.0
PRODID:-//ChamberMaster//Event Calendar 2.0//EN
METHOD:PUBLISH
X-PUBLISHED-TTL:P3D
REFRESH-INTERVAL:P3D
CALSCALE:GREGORIAN
BEGIN:VEVENT
DTSTART;VALUE=DATE:20140329
DTEND;VALUE=DATE:20140330
TRANSP:TRANSPARENT
X-MICROSOFT-CDO-ALLDAYEVENT:TRUE
SUMMARY:* Winterfest Weekend
DESCRIPTION:Last WinterFest Weekend of 2014\n\nSaturday & Sunday\, March 29 & 30\, 12 - 5PM\n\nCome by to walk the trails\, shop in the Museum Store and look for signs of spring on the beautiful Fruitlands campus. If you didn't get a chance to see our two Winter Exhibits\, the Student Art Exhibit and Relics of the Pergolas\, this is your last chance.
X-ALT-DESC;FMTTYPE=text/html:<strong><span style="color:#0D4772\;"><span style="font-family:arial narrow\,sans-serif\;"><span style="font-size:14.0pt\;">Last WinterFest Weekend of 2014</span></span></span></strong><br />\n<strong><span style="color:#3F3F3F\;"><span style="font-family:arial\,sans-serif\;"><span style="font-size:10.0pt\;">Saturday &amp\; Sunday\, March 29 &amp\; 30\, 12 - 5PM</span></span></span></strong><br />\n<span style="color:#3F3F3F\;"><span style="font-family:arial\,sans-serif\;"><span style="font-size:10.0pt\;">Come by to walk the trails\, shop in the Museum Store and look for signs of spring on the beautiful Fruitlands campus. If you didn&#39\;t get a chance to see our two Winter Exhibits\, the Student Art Exhibit and Relics of the Pergolas\, this is your last chance.</span></span></span>
LOCATION:
UID:e.518.16711
SEQUENCE:3
DTSTAMP:20260425T164918Z
URL:http://nashoba.preview.gochambermaster.com/events/details/winterfest-weekend-03-29-2014-16711
END:VEVENT

END:VCALENDAR
