BEGIN:VCALENDAR
VERSION:2.0
PRODID:-//ChamberMaster//Event Calendar 2.0//EN
METHOD:PUBLISH
X-PUBLISHED-TTL:P3D
REFRESH-INTERVAL:P3D
CALSCALE:GREGORIAN
BEGIN:VEVENT
DTSTART;VALUE=DATE:20141121
DTEND;VALUE=DATE:20141122
TRANSP:TRANSPARENT
X-MICROSOFT-CDO-ALLDAYEVENT:TRUE
SUMMARY:* Winter Fire Celebration\, Wachusett Mtn.\, Princeton
DESCRIPTION:11/21: Winter Fire Celebration\, Wachusett Mtn.\, Princeton   Get pumped up for the upcoming ski and snowboard season. Head inside for a showing of two snowboard movie classics\, with hot drinks\, and fire-grilled gourmet food. Head outside for live fire performance\, music by Eddie Japan from 8:30   11pm\, and outdoor fire pits.
X-ALT-DESC;FMTTYPE=text/html:<strong style="box-sizing: border-box\; line-height: 22.1760005950928px\; color: rgb(18\, 18\, 18)\; font-family: 'Droid Sans'\; font-size: 16px\;">11/21:&nbsp\;<a href="https://www.wachusett.com/EventsActivities/CalendarofEvents/WinterFireCelebration/tabid/402/Default.aspx" style="box-sizing: border-box\; color: rgb(0\, 121\, 193)\; text-decoration: none\; line-height: inherit\; -webkit-transition: all 0.3s ease-in-out\; transition: all 0.3s ease-in-out\; outline: none\;" target="_blank">Winter Fire Celebration</a>\,&nbsp\;</strong><span style="color: rgb(18\, 18\, 18)\; font-family: 'Droid Sans'\; font-size: 16px\; line-height: 22.1760005950928px\;">Wachusett Mtn.\, Princeton&nbsp\;&ndash\; Get pumped up for the upcoming ski and&nbsp\;snowboard season. Head inside for a showing of&nbsp\;two snowboard movie classics\, with hot drinks\, and fire-grilled gourmet food. Head outside for live fire performance\, music by&nbsp\;</span><a href="http://www.eddiejapan.com/" style="box-sizing: border-box\; color: rgb(0\, 121\, 193)\; text-decoration: none\; line-height: 22.1760005950928px\; transition: all 0.3s ease-in-out\; -webkit-transition: all 0.3s ease-in-out\; outline: none\; font-family: 'Droid Sans'\; font-size: 16px\;" target="_blank">Eddie Japan</a><span style="color: rgb(18\, 18\, 18)\; font-family: 'Droid Sans'\; font-size: 16px\; line-height: 22.1760005950928px\;">&nbsp\;from 8:30 &ndash\; 11pm\, and outdoor fire pits.</span><br />\n&nbsp\;
LOCATION:
UID:e.518.18617
SEQUENCE:3
DTSTAMP:20260425T000104Z
URL:http://nashoba.preview.gochambermaster.com/events/details/winter-fire-celebration-wachusett-mtn-princeton-11-21-2014-18617
END:VEVENT

END:VCALENDAR
