BEGIN:VCALENDAR
VERSION:2.0
PRODID:-//ChamberMaster//Event Calendar 2.0//EN
METHOD:PUBLISH
X-PUBLISHED-TTL:P3D
REFRESH-INTERVAL:P3D
CALSCALE:GREGORIAN
BEGIN:VEVENT
DTSTART;VALUE=DATE:20131109
DTEND;VALUE=DATE:20131110
TRANSP:TRANSPARENT
X-MICROSOFT-CDO-ALLDAYEVENT:TRUE
SUMMARY:* Wine Tasting at Clover Farm General Store
DESCRIPTION:WINE TASTNG\n\nPlease join us for a free wine tasting\, light appetizers\, and desserts\, along with live music by the Summertime Trio!\n\n\n\n\n\nSaturday\, Nov. 9th\n\n4 to 7PM\n\nCLOVER FARM GENERAL STORE\n\n9 West Main Street\n\nWest Groton\, MA
X-ALT-DESC;FMTTYPE=text/html:<span style="font-family:lucida handwriting\;"><span style="font-size:24.0pt\;">WINE TASTNG</span></span><br />\n<strong><span style="color:#945d4a\;"><span style="font-family:lucida handwriting\;"><span style="font-size:18.0pt\;">Please join us for a free wine tasting\, light appetizers\, and desserts\, along with live music by the </span></span></span><span style="color:#945d4a\;"><span style="font-family:lucida handwriting\;"><span style="font-size:20.0pt\;">Summertime Trio!</span></span></span></strong><br />\n<br />\n<br />\n<span style="font-family:lucida handwriting\;"><span style="font-size:20.0pt\;">Saturday\, Nov. 9th</span></span><br />\n<span style="font-family:lucida handwriting\;"><span style="font-size:20.0pt\;">4 to 7PM</span></span><br />\n<span style="font-family:lucida handwriting\;"><span style="font-size:20.0pt\;">CLOVER FARM GENERAL STORE</span></span><br />\n<span style="font-family:lucida handwriting\;"><span style="font-size:20.0pt\;">9 West Main Street</span></span><br />\n<strong><span style="color:#945d4a\;"><span style="font-family:lucida handwriting\;"><span style="font-size:20.0pt\;">West Groton\, MA</span></span></span></strong>
LOCATION:Clover Farm General Store 9 West Main Street West Groton
UID:e.518.15267
SEQUENCE:3
DTSTAMP:20260426T014206Z
URL:http://nashoba.preview.gochambermaster.com/events/details/wine-tasting-at-clover-farm-general-store-11-09-2013-15267
END:VEVENT

END:VCALENDAR
