BEGIN:VCALENDAR
VERSION:2.0
PRODID:-//ChamberMaster//Event Calendar 2.0//EN
METHOD:PUBLISH
X-PUBLISHED-TTL:P3D
REFRESH-INTERVAL:P3D
CALSCALE:GREGORIAN
BEGIN:VEVENT
DTSTART;VALUE=DATE:20150627
DTEND;VALUE=DATE:20150629
TRANSP:TRANSPARENT
X-MICROSOFT-CDO-ALLDAYEVENT:TRUE
SUMMARY:* Wicked Tilt Lacrosse Tourament
DESCRIPTION:www.devenscommunity.com\n\n\n\nJune 27   28 Wicked Tilt Lacrosse Tourament Rogers Field victoryeventseries.com/boys-events/ wicked-tilt Designed for high school and youth boys and girls lacrosse teams in the Northeast
X-ALT-DESC;FMTTYPE=text/html:www.devenscommunity.com<br />\n<br />\nJune 27 &ndash\; 28 Wicked Tilt Lacrosse Tourament Rogers Field victoryeventseries.com/boys-events/ wicked-tilt Designed for high school and youth boys and girls lacrosse teams in the Northeast<br />\n<br />\n<br />\n&nbsp\;
LOCATION:
UID:e.518.20965
SEQUENCE:3
DTSTAMP:20260424T011146Z
URL:http://nashoba.preview.gochambermaster.com/events/details/wicked-tilt-lacrosse-tourament-06-27-2015-20965
END:VEVENT

END:VCALENDAR
