BEGIN:VCALENDAR
VERSION:2.0
PRODID:-//ChamberMaster//Event Calendar 2.0//EN
METHOD:PUBLISH
X-PUBLISHED-TTL:P3D
REFRESH-INTERVAL:P3D
CALSCALE:GREGORIAN
BEGIN:VEVENT
DTSTART;VALUE=DATE:20150113
DTEND;VALUE=DATE:20150114
TRANSP:TRANSPARENT
X-MICROSOFT-CDO-ALLDAYEVENT:TRUE
SUMMARY:* Westford Parent Support Group
DESCRIPTION:Westford Parents Support Group\n\n \n\nJust a reminder that the Westford Parent Support Group will be meeting at the Millennium School Tuesday January 13 at 7:00 pm.\n\n \n\nTopic:\n\nDepression - Is your child sad a lot? Do they seem to isolate? Don't see their friends as much as other kids seems to? Are you worried because they've stopped talking to you? Is it normal teenage moodiness or something to be concerned about? What's the difference? This group will offer a guest speaker and discussion.\n\n \n\nFor questions please feel free to call Dianne Walsh (508-566-3189) or email at dwalsh@perkinschool.org
X-ALT-DESC;FMTTYPE=text/html:<br />\n<strong><u><span style="color:black\;">Westford Parents Support Group</span></u></strong><br />\n&nbsp\;<br />\n<span style="color:black\;">Just a reminder that the Westford Parent Support Group will be meeting at the Millennium School Tuesday January 13 at 7:00 pm.</span><br />\n&nbsp\;<br />\n<strong><span style="color:black\;">Topic:</span></strong><br />\n<strong><u><span style="color:black\;">Depression</span></u></strong> <span style="color:black\;">- Is your child sad a lot? Do they seem to isolate? Don&rsquo\;t see their friends as much as other kids seems to? Are you worried because they&rsquo\;ve stopped talking to you? Is it normal teenage moodiness or something to be concerned about? What&rsquo\;s the difference? This group will offer a guest speaker and discussion.</span><br />\n&nbsp\;<br />\n<span style="color:black\;">For questions please feel free to call Dianne Walsh (508-566-3189) or email at </span><a href="mailto:dwalsh@perkinschool.org" target="_blank">dwalsh@perkinschool.org</a><br />\n<br />\n<br />\n&nbsp\;
LOCATION:
UID:e.518.19352
SEQUENCE:3
DTSTAMP:20260424T160306Z
URL:http://nashoba.preview.gochambermaster.com/events/details/westford-parent-support-group-01-13-2015-19352
END:VEVENT

END:VCALENDAR
