BEGIN:VCALENDAR
VERSION:2.0
PRODID:-//ChamberMaster//Event Calendar 2.0//EN
METHOD:PUBLISH
X-PUBLISHED-TTL:P3D
REFRESH-INTERVAL:P3D
CALSCALE:GREGORIAN
BEGIN:VEVENT
DTSTART;VALUE=DATE:20150616
DTEND;VALUE=DATE:20150617
TRANSP:TRANSPARENT
X-MICROSOFT-CDO-ALLDAYEVENT:TRUE
SUMMARY:* Westford Farmers Market - Opening Day
DESCRIPTION:June 16th - Opening Day!\n\nTuesdays\, 2:30 to 6:30 pm\n \n\nFrom farm-raised meat and fresh fish to varied greens and from locally prepared meals to hand-crafted sweet treats\, the Westford Farmers Market is set to offer a fresh mix when it opens Tuesday\, June 16 for its ninth season.\n\n\n\nWe hope you'll join us in welcoming our both new and returning farms & vendors.  Bring your refillable water bottle to the market manager's tent and enjoy all natural\, fruit infused beverages for FREE! If you are a Sustainable Westford member you can also get free drinks all season long!\n\n\n\nSome of our vendors are on a varied schedule.  We encourage you to read this email or check in on Facebook each week for a full list of vendors and other happenings.
X-ALT-DESC;FMTTYPE=text/html:<h1>June 16th - Opening Day!</h1>\n\n<h3>Tuesdays\, 2:30 to 6:30 pm</h3>\n&nbsp\;<br />\n<span style="color:#5F3636\;"><span style="font-family:lucida sans unicode\,sans-serif\;"><span style="font-size:11.5pt\;">From farm-raised meat and fresh&nbsp\;fish to varied greens and from locally prepared&nbsp\;meals to hand-crafted sweet treats\, the&nbsp\;Westford&nbsp\;Farmers</span>&nbsp\;Market is set to offer a fresh mix when it opens Tuesday\, June 16&nbsp\;for its ninth season.<br />\n<br />\nWe hope you&#39\;ll join us in welcoming&nbsp\;our&nbsp\;<a href="http://sustainablewestford.us1.list-manage.com/track/click?u=8fd2f50725fd3b2ac1f781b54&amp\;id=494b0be900&amp\;e=371b0717d9" style="word-wrap:break-word\;-ms-text-size-adjust:100%\;-webkit-text-size-adjust:100%\;" target="_blank"><span style="color:#6DC6DD\;">both new and returning farms &amp\; vendors</span></a>. &nbsp\;Bring your refillable&nbsp\;water bottle to&nbsp\;the market manager&#39\;s tent and enjoy all natural\, fruit infused beverages for FREE! If you are a Sustainable Westford member you can also get free drinks all season long!<br />\n<br />\nSome of our vendors are on a varied schedule. &nbsp\;We encourage you to read this email or check in on&nbsp\;<a href="http://sustainablewestford.us1.list-manage.com/track/click?u=8fd2f50725fd3b2ac1f781b54&amp\;id=2fa8770ee8&amp\;e=371b0717d9" style="word-wrap:break-word\;-ms-text-size-adjust:100%\;-webkit-text-size-adjust:100%\;" target="_blank"><span style="color:#6DC6DD\;">Facebook</span></a>&nbsp\;each week for a full list of vendors and other happenings.</span></span><br />\n&nbsp\;
LOCATION:
UID:e.518.21467
SEQUENCE:3
DTSTAMP:20260424T011317Z
URL:http://nashoba.preview.gochambermaster.com/events/details/westford-farmers-market-opening-day-06-16-2015-21467
END:VEVENT

END:VCALENDAR
