BEGIN:VCALENDAR
VERSION:2.0
PRODID:-//ChamberMaster//Event Calendar 2.0//EN
METHOD:PUBLISH
X-PUBLISHED-TTL:P3D
REFRESH-INTERVAL:P3D
CALSCALE:GREGORIAN
BEGIN:VEVENT
DTSTART;VALUE=DATE:20141012
DTEND;VALUE=DATE:20141013
TRANSP:TRANSPARENT
X-MICROSOFT-CDO-ALLDAYEVENT:TRUE
SUMMARY:* Wachusett Dam Open for Visitors
DESCRIPTION:Wachusett dam open for visitors on Oct. 12\n\n \n\nCLINTON   The Department of Conservation and Recreation (DCR) announces the opening of the top of Wachusett Dam in Clinton for the public to walk across on the afternoon of Sunday\, Oct. 12\, from 10 a.m. to 1 p.m.\n\n \n\nDCR is responsible for protection of the metropolitan Boston water supply\, which includes the Wachusett Reservoir and watershed area. The walkway along the top of the Wachusett Dam has been closed since the 1990s due to water supply security and public safety concerns.\n\n \n\nIn recent years\, the dam has been open two days a week - the Saturday of Mother's Day weekend and the Sunday of Columbus Day weekend.\n\n \n\nDCR Watershed Rangers will be on hand to answer questions and to provide other information on DCR's watershed protection program.\n\n \n\nDue to increased security\, backpacks\, briefcases and other large bags will not be allowed. All other Items brought may be subject to search.\n\n \n\nFor information\, contact the Wachusett Reservoir Ranger Station at (978) 365-3800.
X-ALT-DESC;FMTTYPE=text/html:Wachusett dam open for visitors on Oct. 12<br />\n&nbsp\;<br />\nCLINTON &mdash\; The Department of Conservation and Recreation (DCR) announces the opening of the top of Wachusett Dam in Clinton for the public to walk across on the afternoon of Sunday\, Oct. 12\, from 10 a.m. to 1 p.m.<br />\n&nbsp\;<br />\nDCR is responsible for protection of the metropolitan Boston water supply\, which includes the Wachusett Reservoir and watershed area. The walkway along the top of the Wachusett Dam has been closed since the 1990s due to water supply security and public safety concerns.<br />\n&nbsp\;<br />\nIn recent years\, the dam has been open two days a week - the Saturday of Mother&#39\;s Day weekend and the Sunday of Columbus Day weekend.<br />\n&nbsp\;<br />\nDCR Watershed Rangers will be on hand to answer questions and to provide other information on DCR&#39\;s watershed protection program.<br />\n&nbsp\;<br />\nDue to increased security\, backpacks\, briefcases and other large bags will not be allowed. All other Items brought may be subject to search.<br />\n&nbsp\;<br />\nFor information\, contact the Wachusett Reservoir Ranger Station at (978) 365-3800.<br />\n<br />\n<br />\n&nbsp\;
LOCATION:
UID:e.518.18327
SEQUENCE:3
DTSTAMP:20260425T012325Z
URL:http://nashoba.preview.gochambermaster.com/events/details/wachusett-dam-open-for-visitors-10-12-2014-18327
END:VEVENT

END:VCALENDAR
