BEGIN:VCALENDAR
VERSION:2.0
PRODID:-//ChamberMaster//Event Calendar 2.0//EN
METHOD:PUBLISH
X-PUBLISHED-TTL:P3D
REFRESH-INTERVAL:P3D
CALSCALE:GREGORIAN
BEGIN:VEVENT
DTSTART;VALUE=DATE:20150214
DTEND;VALUE=DATE:20150215
TRANSP:TRANSPARENT
X-MICROSOFT-CDO-ALLDAYEVENT:TRUE
SUMMARY:* Valentine's Day with the Wheelers (at Fruitlands Museum)
DESCRIPTION:http://www.fruitlands.org/ValentinesDay\n\n\n\nCentennial Performance: Valentine's Day with the Wheelers\n\nSat\, 02/14/2015 - 3:00pm\n\nMember Admission...  $20\n\nNon-Member Admission...  $25\n\nCost...  Includes admission to WinterFest\n\n \n\n \n\n"I do possess such feelings of affections & regard for you that it would be my constant aim to make life happy & agreeable to you..." - Jonathan Wheeler\, 4/6/1829\n\n\n\nThe touching 1820s courtship of Jonathan Dodge Wheeler and Elisabeth Davenport blossoms back to life in a staged reading of the young couple's love story during this special Saint Valentine's Day event. Taken from cherished original correspondence between the two lovers\, this theatrical reading recounts the daily joys and troubles of youth in the early nineteenth century and tender expressions of love and longing. Enjoy an intimate setting in the Tea Room as we celebrate Saint Valentine's Day with savory treats\, delectable desserts\, delicious wine\, and tokens of love.\n\n\n\nSpace is limited. Registration is required. To register\, call 978-456-3924\, ext. 239 or email programming@fruitlands.org.
X-ALT-DESC;FMTTYPE=text/html:&nbsp\;http://www.fruitlands.org/ValentinesDay<br />\n<br />\nCentennial Performance: Valentine&#39\;s Day with the Wheelers<br />\nSat\, 02/14/2015 - 3:00pm<br />\nMember Admission... &nbsp\;$20<br />\nNon-Member Admission... &nbsp\;$25<br />\nCost... &nbsp\;Includes admission to WinterFest<br />\n&nbsp\;<br />\n&nbsp\;<br />\n&quot\;I do possess such feelings of affections &amp\; regard for you that it would be my constant aim to make life happy &amp\; agreeable to you...&quot\; - Jonathan Wheeler\, 4/6/1829<br />\n<br />\nThe touching 1820s courtship of Jonathan Dodge Wheeler and Elisabeth Davenport blossoms back to life in a staged reading of the young couple&rsquo\;s love story during this special Saint Valentine&rsquo\;s Day event. Taken from cherished original correspondence between the two lovers\, this theatrical reading recounts the daily joys and troubles of youth in the early nineteenth century and tender expressions of love and longing. Enjoy an intimate setting in the Tea Room as we celebrate Saint Valentine&rsquo\;s Day with savory treats\, delectable desserts\, delicious wine\, and tokens of love.<br />\n<br />\nSpace is limited. Registration is required. To register\, call 978-456-3924\, ext. 239 or email programming@fruitlands.org.&nbsp\;<br />\n<br />\n<br />\n&nbsp\;<br />\n<br />\n&nbsp\;<br />\n<br />\n<br />\n&nbsp\;<br />\n<br />\n<br />\n
LOCATION:
UID:e.518.19975
SEQUENCE:3
DTSTAMP:20260424T195900Z
URL:http://nashoba.preview.gochambermaster.com/events/details/valentine-s-day-with-the-wheelers-at-fruitlands-museum-02-14-2015-19975
END:VEVENT

END:VCALENDAR
