BEGIN:VCALENDAR
VERSION:2.0
PRODID:-//ChamberMaster//Event Calendar 2.0//EN
METHOD:PUBLISH
X-PUBLISHED-TTL:P3D
REFRESH-INTERVAL:P3D
CALSCALE:GREGORIAN
BEGIN:VEVENT
DTSTART;VALUE=DATE:20140403
DTEND;VALUE=DATE:20140404
TRANSP:TRANSPARENT
X-MICROSOFT-CDO-ALLDAYEVENT:TRUE
SUMMARY:* Using Online Social Networking (To Boost Sales & Marketing Success)
DESCRIPTION:These are the seminars being offered by the MSBDC at Clark University   Spring 2014\n\n All seminars will be held in the Grace Conference Room in the Higgins University Center\, Clark\n\n  University\n\n Registration is 8:45\, Program starts at 9AM and ends at Noon\n\n Cost is $39 per person per seminar\, $30 for each additional person (from one company) or each\n\n  additional seminar \n\n Registration and pre payment is essential to guarantee a seat. \n\n Checks should be made out to: Clark University and mailed to Clark University SBDC\, Penny Tiernan\, 950 Main Street\, Worcester\, MA 01610-1477\n\n Phone: 508-793-7615 or email sbdc@clarku.edu for more information.\n\n Visit our web site at: http://www.clarku.edu/offices/sbdc\n\n \n\n \n\n \n\nThursday\, April 3\, 2014\n\nUsing Online Social Networking (To Boost Sales & Marketing Success)\n\n \n\nThe use of Social Media as a networking and  marketing tool is highly relevant for today's business owners.  As a result of its onset and the subsequent buzz surrounding the use of this medium\, business owners are finding challenges in utilizing it to garner results.  This is a highly interactive and specialized platform that requires both understanding and nuance to realize results.    \n\n \n\nSpeaker: Heather Logrippo\, CEO\, Expose Yourself PR\, Shrewsbury\, MA
X-ALT-DESC;FMTTYPE=text/html:<strong><u>These are the seminars being offered by the MSBDC at Clark University &ndash\; Spring 2014</u></strong><br />\n<strong><span style="font-family:wingdings\;">&#159\;</span>All seminars will be held in the Grace Conference Room in the Higgins University Center\, Clark</strong><br />\n<strong>&nbsp\;&nbsp\;University</strong><br />\n<strong><span style="font-family:wingdings\;">&#159\;</span>Registration is 8:45\, Program starts at 9AM and ends at Noon</strong><br />\n<strong><span style="font-family:wingdings\;">&#159\;</span>Cost is $39 per person per seminar\, $30 for each additional person (from one company) or each</strong><br />\n<strong>&nbsp\; additional seminar </strong><br />\n<strong><span style="font-family:wingdings\;">&#159\;</span>Registration and pre payment is essential to guarantee a seat. </strong><br />\n<strong><span style="font-family:wingdings\;">&#159\;</span>Checks should be made out to: Clark University and mailed to Clark University SBDC\, Penny Tiernan\, 950 Main Street\, Worcester\, MA 01610-1477</strong><br />\n<strong><span style="font-family:wingdings\;">&#159\;</span>Phone: 508-793-7615 or email <a href="mailto:sbdc@clarku.edu"><span style="font-weight:normal\;text-decoration:none\;text-underline:none\;">sbdc@clarku.edu</span></a> for more information.</strong><br />\n<strong><span style="font-family:wingdings\;">&#159\;</span>Visit our web site at: http://www.clarku.edu/offices/sbdc</strong><br />\n&nbsp\;<br />\n&nbsp\;<br />\n&nbsp\;<br />\n<strong><u>Thursday\, April 3\, 2014</u></strong><br />\n<strong>Using Online Social Networking (To Boost Sales &amp\; Marketing Success)</strong><br />\n&nbsp\;<br />\n<span style="color:black\;"><span style="font-family:calibri\,sans-serif\;">The use of Social Media as a networking and&nbsp\; marketing tool is highly relevant for today&#39\;s business owners.&nbsp\; As a result of its onset and the subsequent buzz surrounding the use of this medium\, business owners are finding challenges in utilizing it to garner results.&nbsp\; This is a highly interactive and specialized platform that requires both understanding and nuance to realize results.&nbsp\;&nbsp\;&nbsp\; </span></span><br />\n&nbsp\;<br />\n<strong><em><span style="color:black\;">Speaker:</span></em></strong><span style="color:black\;"> <strong>Heather Logrippo\, </strong>CEO\,<strong> Expose Yourself PR\, </strong>Shrewsbury\, MA</span><br />\n&nbsp\;<br />\n<br />\n<br />\n<br />\n
LOCATION:
UID:e.518.16187
SEQUENCE:3
DTSTAMP:20260425T122843Z
URL:http://nashoba.preview.gochambermaster.com/events/details/using-online-social-networking-to-boost-sales-marketing-success-04-03-2014-16187
END:VEVENT

END:VCALENDAR
