BEGIN:VCALENDAR
VERSION:2.0
PRODID:-//ChamberMaster//Event Calendar 2.0//EN
METHOD:PUBLISH
X-PUBLISHED-TTL:P3D
REFRESH-INTERVAL:P3D
CALSCALE:GREGORIAN
BEGIN:VEVENT
DTSTART;VALUE=DATE:20140126
DTEND;VALUE=DATE:20140127
TRANSP:TRANSPARENT
X-MICROSOFT-CDO-ALLDAYEVENT:TRUE
SUMMARY:* Townsend Rod and Gun Club to host ice fishing derby
DESCRIPTION:TOWNSEND   The Townsend Rod and Gun Club is holding an Ice Fishing Derby on Sunday\, Jan. 26. It will be held at the club pond at 46 Emery Road.\n\n\n\nRegistration begins at 7 a.m. and fishing is from 8 a.m. to 1 p.m. The cost is $15 for adults and $10 for children under 12. There is a three fish limit and the re-up fee is $10. The kitchen will be open from breakfast time through lunch time.\n\n\n\nThe pond will be stocked with rainbow and brown trout and they'll be hungry. The derby is open to all area adults and children. Fishing licenses are not needed and Townsend Rod and Gun Club membership is not required. Fishing bait will not be sold\, so be sure to stock up before the derby.\n\n\n\nThe second Ice Fishing Derby is scheduled for Sunday\, Feb. 22. Derbies are held when there is enough ice. Call Jon at 978-597-2440 for ice information or check the club website at townsend-rod-and-gun-club.org.
X-ALT-DESC;FMTTYPE=text/html:<span style="color: rgb(51\, 51\, 51)\; font-family: 'lucida grande'\, tahoma\, verdana\, arial\, sans-serif\; font-size: 12.727272033691406px\; line-height: 17.99715805053711px\;">TOWNSEND &mdash\; The Townsend Rod and Gun Club is holding an Ice Fishing Derby on Sunday\, Jan. 26. It will be held at the club pond at 46 Emery Road.</span><br style="color: rgb(51\, 51\, 51)\; font-family: 'lucida grande'\, tahoma\, verdana\, arial\, sans-serif\; font-size: 12.727272033691406px\; line-height: 17.99715805053711px\;" />\n<br style="color: rgb(51\, 51\, 51)\; font-family: 'lucida grande'\, tahoma\, verdana\, arial\, sans-serif\; font-size: 12.727272033691406px\; line-height: 17.99715805053711px\;" />\n<span style="color: rgb(51\, 51\, 51)\; font-family: 'lucida grande'\, tahoma\, verdana\, arial\, sans-serif\; font-size: 12.727272033691406px\; line-height: 17.99715805053711px\;">Registration begins at 7 a.m. and fishing is from 8 a.m. to 1 p.m. The cost is $15 for adults and $10 for children under 12. There is a three fish limit and the re-up fee is $10. The kitchen will be ope</span><span class="text_exposed_show" style="display: inline\; color: rgb(51\, 51\, 51)\; font-family: 'lucida grande'\, tahoma\, verdana\, arial\, sans-serif\; font-size: 12.727272033691406px\; line-height: 17.99715805053711px\;">n from breakfast time through lunch time.<br />\n<br />\nThe pond will be stocked with rainbow and brown trout and they&rsquo\;ll be hungry. The derby is open to all area adults and children. Fishing licenses are not needed and Townsend Rod and Gun Club membership is not required. Fishing bait will not be sold\, so be sure to stock up before the derby.<br />\n<br />\nThe second Ice Fishing Derby is scheduled for Sunday\, Feb. 22. Derbies are held when there is enough ice. Call Jon at 978-597-2440 for ice information or check the club website at townsend-rod-and-gun-club.org.</span><br />\n<br />\n<br />\n
LOCATION:
UID:e.518.16017
SEQUENCE:3
DTSTAMP:20260425T161012Z
URL:http://nashoba.preview.gochambermaster.com/events/details/townsend-rod-and-gun-club-to-host-ice-fishing-derby-01-26-2014-16017
END:VEVENT

END:VCALENDAR
