BEGIN:VCALENDAR
VERSION:2.0
PRODID:-//ChamberMaster//Event Calendar 2.0//EN
METHOD:PUBLISH
X-PUBLISHED-TTL:P3D
REFRESH-INTERVAL:P3D
CALSCALE:GREGORIAN
BEGIN:VEVENT
DTSTART:20140313T220000Z
DTEND:20140314T000000Z
X-MICROSOFT-CDO-ALLDAYEVENT:FALSE
SUMMARY:* Town of Littleton's 300th Celebration - Planning Meeting
DESCRIPTION:Meets at 6pm at the Town Hall OR the Police Station
X-ALT-DESC;FMTTYPE=text/html:Meets at 6pm at the Town Hall OR the Police Station<br />\n&nbsp\;
LOCATION:
UID:e.518.9070
SEQUENCE:3
DTSTAMP:20260425T125800Z
URL:http://nashoba.preview.gochambermaster.com/events/details/town-of-littleton-s-300th-celebration-planning-meeting-03-13-2014-9070
END:VEVENT

END:VCALENDAR
