BEGIN:VCALENDAR
VERSION:2.0
PRODID:-//ChamberMaster//Event Calendar 2.0//EN
METHOD:PUBLISH
X-PUBLISHED-TTL:P3D
REFRESH-INTERVAL:P3D
CALSCALE:GREGORIAN
BEGIN:VEVENT
DTSTART;VALUE=DATE:20150523
DTEND;VALUE=DATE:20150524
TRANSP:TRANSPARENT
X-MICROSOFT-CDO-ALLDAYEVENT:TRUE
SUMMARY:* Town of Ayer - Memorial Day Parade
DESCRIPTION:Memorial Day Parade\n\nSaturday\, May 23\, 2015\n\nThe Parade will gather at the DPW Area on Brook Street at 9:30am.\n\n \n\n10:00 Parade Begins\n\n10:30 Memorial Services - Ayer Town Hall\n\n11:00 Parade continues to Pirone Park\n\n11:30 Memorial Services at Pirone Park\n\n \n\nThe Ayer American Legion Post Color Guard will be holding Memorial Services at Woodlawn Cemetery at 8:30AM and at St. Mary's Cemetery at 9:00AM - The Public is Invited.
X-ALT-DESC;FMTTYPE=text/html:<br />\n<strong><span style="color:black\;"><span style="font-family:arial\,sans-serif\;"><span style="font-size:14.0pt\;">Memorial Day Parade</span></span></span></strong><br />\n<strong><span style="color:black\;"><span style="font-family:arial\,sans-serif\;"><span style="font-size:14.0pt\;">Saturday\, May 23\, 2015</span></span></span></strong><br />\n<strong><span style="color:black\;"><span style="font-family:arial\,sans-serif\;"><span style="font-size:14.0pt\;">The Parade will gather at the DPW Area on Brook Street at 9:30am.</span></span></span></strong><br />\n&nbsp\;<br />\n<span style="color:black\;"><span style="font-family:arial\,sans-serif\;"><span style="font-size:14.0pt\;">10:00 Parade Begins</span></span></span><br />\n<span style="color:black\;"><span style="font-family:arial\,sans-serif\;"><span style="font-size:14.0pt\;">10:30 Memorial Services - Ayer Town Hall</span></span></span><br />\n<span style="color:black\;"><span style="font-family:arial\,sans-serif\;"><span style="font-size:14.0pt\;">11:00 Parade continues to Pirone Park</span></span></span><br />\n<span style="color:black\;"><span style="font-family:arial\,sans-serif\;"><span style="font-size:14.0pt\;">11:30 Memorial Services at Pirone Park</span></span></span><br />\n&nbsp\;<br />\n<em><span style="color:black\;"><span style="font-family:arial\,sans-serif\;"><span style="font-size:14.0pt\;">The Ayer American Legion Post Color Guard will be holding Memorial Services at Woodlawn Cemetery at 8:30AM and at St. Mary&#39\;s Cemetery at 9:00AM - The Public is Invited.</span></span></span></em><br />\n&nbsp\;<br />\n<br />\n&nbsp\;
LOCATION:
UID:e.518.20974
SEQUENCE:3
DTSTAMP:20260424T040056Z
URL:http://nashoba.preview.gochambermaster.com/events/details/town-of-ayer-memorial-day-parade-05-23-2015-20974
END:VEVENT

END:VCALENDAR
