BEGIN:VCALENDAR
VERSION:2.0
PRODID:-//ChamberMaster//Event Calendar 2.0//EN
METHOD:PUBLISH
X-PUBLISHED-TTL:P3D
REFRESH-INTERVAL:P3D
CALSCALE:GREGORIAN
BEGIN:VEVENT
DTSTART;VALUE=DATE:20131101
DTEND;VALUE=DATE:20131102
TRANSP:TRANSPARENT
X-MICROSOFT-CDO-ALLDAYEVENT:TRUE
SUMMARY:* The Tubes @ The Bull Run Restaurant
DESCRIPTION:The Tubes w/ Fee Waybill /\n	\n		The Tubes\n	\n		Friday\, November 01\, 2013\, 8:00 pm \n	\n		 \n	\n		EST\n	at:\n\n	Bull Run Restaurant\, 215 Great Road\, Shirley\, MA 01464\n\n	See Description Important: \n	\n		Doors will open at 6pm for dinner and seating. Show begins at 8pm.\n	\n		If there are tickets left on the day of show they will be available online and at the door for $45 plus ticket fee.
X-ALT-DESC;FMTTYPE=text/html:<div class="info-box center-div" itemscope="" itemtype="http://data-vocabulary.org/Event">\n	<h2>\n		The Tubes w/ Fee Waybill /</h2>\n	<h2>\n		<a>The Tubes</a></h2>\n	<time datetime="2013-11-01T20:00" itemprop="startDate">\n		Friday\, November 01\, 2013\, 8:00 pm&nbsp\;</time>\n	<time datetime="2013-11-01T20:00" itemprop="startDate">\n		&nbsp\;</time>\n	<time datetime="2013-11-01T20:00" itemprop="startDate">\n		EST</time>\n	at:<br />\n	<span itemprop="location" itemscope="" itemtype="http://data-vocabulary.org/?Organization"><a itemprop="name">Bull Run Restaurant</a>\, <span itemprop="address" itemscope="" itemtype="http://data-vocabulary.org/Address"><span itemprop="street-address">215 Great Road</span>\, <span itemprop="locality">Shirley</span>\, <span itemprop="region">MA</span> <span itemprop="postal-code">01464</span></span></span><br />\n	<a>See Description</a> <i><u>Important:</u> </i>\n	<p>\n		<i><span style="COLOR: #800000"><strong><span style="FONT-SIZE: small">Doors will open at 6pm for dinner and seating. Show begins at 8pm.</span></strong></span></i></p>\n	<p>\n		<i><span style="COLOR: #800000"><strong><span style="FONT-SIZE: small">If there are tickets left on the day of show they will be available online and at the door for $45 plus ticket fee.</span></strong></span></i></p>\n</div>\n<br />\n
LOCATION:
UID:e.518.15241
SEQUENCE:3
DTSTAMP:20260426T030216Z
URL:http://nashoba.preview.gochambermaster.com/events/details/the-tubes-the-bull-run-restaurant-11-01-2013-15241
END:VEVENT

END:VCALENDAR
