BEGIN:VCALENDAR
VERSION:2.0
PRODID:-//ChamberMaster//Event Calendar 2.0//EN
METHOD:PUBLISH
X-PUBLISHED-TTL:P3D
REFRESH-INTERVAL:P3D
CALSCALE:GREGORIAN
BEGIN:VEVENT
DTSTART;VALUE=DATE:20141029
DTEND;VALUE=DATE:20141030
TRANSP:TRANSPARENT
X-MICROSOFT-CDO-ALLDAYEVENT:TRUE
SUMMARY:* The History of the Apple: Central Asia to the Nashoba Valley
DESCRIPTION:The History of the Apple: \n\nCentral Asia to the Nashoba Valley\n\nHosted by the Groton Historical Society\, Littleton Historical Society\n\nand Westford Historical Society\n\n \n\nWednesday | October 29\, 2014  |  7 pm\n\nFirst Parish Church United of Westford\n\n48 Main Street\, Westford\, MA   \n\n \n\nPlease join us for an interesting an informative talk by John Bunker\, Apple Historian\, Orchardist and Fruit Explorer. He is a twenty-first century Johnny Appleseed and today's foremost authority on heritage apples. Learn why old apples are important\, the uses varieties and culture of apples\, the care of apple trees and more. With many apple orchards within Freedom's Way\, this promises to be an interesting evening.\n\n\n\nCome Early  At 6pm Mr. Bunker will host  "Name Your Apple." You are invited to bring an apple for him to identify. \n\n Downloadable Flyer\n\nCider and Snacks will be served
X-ALT-DESC;FMTTYPE=text/html:<br />\n<br />\n<strong><span style="color:#003366\;"><span style="font-family:arial\,sans-serif\;"><span style="font-size:14.0pt\;">The History of the Apple:</span></span></span></strong>&nbsp\;<br />\n<em><strong><span style="color:#003366\;"><span style="font-family:arial\,sans-serif\;"><span style="font-size:14.0pt\;">Central Asia to the Nashoba Valley</span></span></span></strong></em><br />\n<strong><span style="color:#001A81\;"><span style="font-family:arial\,sans-serif\;"><span style="font-size:10.0pt\;">Hosted by the Groton Historical Society\, Littleton Historical Society<br />\nand Westford Historical Society</span></span></span></strong><br />\n&nbsp\;<br />\n<strong><span style="color:maroon\;"><span style="font-family:arial\,sans-serif\;"><span style="font-size:11.5pt\;">Wednesday | October 29\, 2014 &nbsp\;| &nbsp\;7 pm</span></span></span></strong><br />\n<span style="color:#003366\;"><span style="font-family:arial\,sans-serif\;"><span style="font-size:11.0pt\;">First Parish Church United of Westford<br />\n48 Main Street\, Westford\, MA &nbsp\;&nbsp\;</span></span></span><br />\n&nbsp\;<br />\n<em><span style="color:#003366\;"><span style="font-family:arial\,sans-serif\;"><span style="font-size:11.0pt\;">Please join us for an interesting an informative talk by John Bunker\, Apple Historian\, Orchardist and Fruit Explorer. He is a twenty-first century Johnny Appleseed and today&#39\;s foremost authority on heritage apples. Learn why old apples are important\, the uses varieties and culture of apples\, the care of apple trees and more. With many apple orchards within Freedom&#39\;s Way\, this promises to be an interesting evening.</span></span></span></em><br />\n<br />\n<em><span style="color:#003366\;"><span style="font-family:arial\,sans-serif\;"><span style="font-size:11.0pt\;"><strong>Come Early &nbsp\;</strong><em>At 6pm Mr. Bunker will host&nbsp\; &quot\;Name Your Apple.&quot\; You are invited to bring an apple for him to identify. </em></span></span></span></em><br />\n<em><span style="color:#003366\;"><span style="font-family:arial\,sans-serif\;"><span style="font-size:11.0pt\;"><a href="http://r20.rs6.net/tn.jsp?f=001CrgAzVOaSFDnLP_ELdijlU9msjS2vP9i8YOdUfqFXnDnQpMs3LK428kv19J10UL2gJjwC8CjKgivxTrlhVyUVgIqAnVm_SUZy7RcOYcqNrUWUfkZyTGLNKg9i1C3C7ii0SZ0wsti0Fh2Ohvhl0RMJj6lL1HPIODz_Dtu3vMnhZ8TpO2-179cIixVpw3YCjDbrGJOTrBGdrw1PqYBbvDJSLkbcz1iSto4_OXTuO0YNrpGe7PSgPRWHX4v0oxrKTTx1Ikbzg0lNmY=&amp\;c=-i9zHebntL-YL7MbVCzEv8eJYT4OTlqNrvF-Hy0a7IOIXC9lUaXE2Q==&amp\;ch=3OYL0ocqGX_NwloXZXvAKB-BG0mzMV4nM4NRv-b4GKo620HqzaR8fA==" linktype="document" ref="ACCOUNT.DOCUMENT.238" shape="rect" target="_blank" track="on">&nbsp\;Downloadable Flyer</a><br />\nCider and Snacks will be served&nbsp\;</span></span></span></em><br />\n&nbsp\;
LOCATION:
UID:e.518.18372
SEQUENCE:3
DTSTAMP:20260425T000231Z
URL:http://nashoba.preview.gochambermaster.com/events/details/the-history-of-the-apple-central-asia-to-the-nashoba-valley-10-29-2014-18372
END:VEVENT

END:VCALENDAR
