BEGIN:VCALENDAR
VERSION:2.0
PRODID:-//ChamberMaster//Event Calendar 2.0//EN
METHOD:PUBLISH
X-PUBLISHED-TTL:P3D
REFRESH-INTERVAL:P3D
CALSCALE:GREGORIAN
BEGIN:VEVENT
DTSTART;VALUE=DATE:20150608
DTEND;VALUE=DATE:20150609
TRANSP:TRANSPARENT
X-MICROSOFT-CDO-ALLDAYEVENT:TRUE
SUMMARY:* Super Town Meeting
DESCRIPTION:June 8: A Super Town Meeting will be held to vote on four relatively minor but important changes to the Devens Zoning By-Laws. One of the changes would allow for small-scale healthcare uses like doctors' offices in the Shirley Village Growth I district to complement the propose senior housing and provide enhanced access to medical care. More information about this zoning change is available here: http://courbanize.com/devens-zoning/
X-ALT-DESC;FMTTYPE=text/html:<br />\nJune 8: A Super Town Meeting will be held to vote on four relatively minor but important changes to the Devens Zoning By-Laws. One of the changes would allow for small-scale healthcare uses like doctors&rsquo\; offices in the Shirley Village Growth I district to complement the propose senior housing and provide enhanced access to medical care. More information about this zoning change is available here: http://courbanize.com/devens-zoning/<br />\n<br />\n&nbsp\;
LOCATION:
UID:e.518.20929
SEQUENCE:3
DTSTAMP:20260424T011024Z
URL:http://nashoba.preview.gochambermaster.com/events/details/super-town-meeting-06-08-2015-20929
END:VEVENT

END:VCALENDAR
