BEGIN:VCALENDAR
VERSION:2.0
PRODID:-//ChamberMaster//Event Calendar 2.0//EN
METHOD:PUBLISH
X-PUBLISHED-TTL:P3D
REFRESH-INTERVAL:P3D
CALSCALE:GREGORIAN
BEGIN:VEVENT
DTSTART;VALUE=DATE:20150110
DTEND;VALUE=DATE:20150111
TRANSP:TRANSPARENT
X-MICROSOFT-CDO-ALLDAYEVENT:TRUE
SUMMARY:* STYROFOAM RECYCLING EVENT (Bolton Transfer Station)
DESCRIPTION:STYROFOAM RECYCLING EVENT\n \n\n \n \n\nPlease join us on Saturday\, January 10th - 9AM - 12PM\n \n\nTown of Bolton Transfer Station - 95 Forbush Mill Road - Bolton\n \n\n \n \n\nWHAT TO BRING:\n \n\nStyrofoam - Foam Cups\n \n\nFoam Trays - Take Out Containers - Packing Blocks Bubble Wrap - Packing Peanuts\n\n\n \n \n\nWHAT NOT TO BRING:\n \n\nInsulation - Soft Foam - Pipe Insulation\n \n\n \n \n\nTHIS IS AN OPEN EVENT - EVERYONE WELCOME!
X-ALT-DESC;FMTTYPE=text/html:<br />\n<div align="center" style="margin: 0px\; padding: 0px\; color: rgb(0\, 0\, 0)\; font-family: Tahoma\, Geneva\, sans-serif\; font-size: 12px\; line-height: 14.8827896118164px\; text-align: center\;"><font color="#0000DD" face="Times New Roman" style="font-family: 'Times New Roman'\; font-size: 18pt\; color: rgb(0\, 0\, 221)\;"><b>STYROFOAM RECYCLING EVENT</b></font></div>\n&nbsp\;\n\n<div align="center" style="margin: 0px\; padding: 0px\; color: rgb(0\, 0\, 0)\; font-family: Tahoma\, Geneva\, sans-serif\; font-size: 12px\; line-height: 14.8827896118164px\; text-align: center\;"><font color="#0000DD" face="Times New Roman" style="font-family: 'Times New Roman'\; font-size: 18pt\; color: rgb(0\, 0\, 221)\;"><b>&nbsp\;</b></font></div>\n&nbsp\;\n\n<div align="center" style="margin: 0px\; padding: 0px\; color: rgb(0\, 0\, 0)\; font-family: Tahoma\, Geneva\, sans-serif\; font-size: 12px\; line-height: 14.8827896118164px\; text-align: center\;"><font color="#0000DD" face="Times New Roman" style="font-family: 'Times New Roman'\; font-size: 18pt\; color: rgb(0\, 0\, 221)\;"><b>Please join us on Saturday\, January 10th - 9AM - 12PM</b></font></div>\n&nbsp\;\n\n<div align="center" style="margin: 0px\; padding: 0px\; color: rgb(0\, 0\, 0)\; font-family: Tahoma\, Geneva\, sans-serif\; font-size: 12px\; line-height: 14.8827896118164px\; text-align: center\;"><font color="#0000DD" face="Times New Roman" style="font-family: 'Times New Roman'\; font-size: 18pt\; color: rgb(0\, 0\, 221)\;"><b>Town of Bolton Transfer Station - 95 Forbush Mill Road - Bolton</b></font></div>\n&nbsp\;\n\n<div align="center" style="margin: 0px\; padding: 0px\; color: rgb(0\, 0\, 0)\; font-family: Tahoma\, Geneva\, sans-serif\; font-size: 12px\; line-height: 14.8827896118164px\; text-align: center\;"><font color="#0000DD" face="Times New Roman" style="font-family: 'Times New Roman'\; font-size: 18pt\; color: rgb(0\, 0\, 221)\;"><b>&nbsp\;</b></font></div>\n&nbsp\;\n\n<div align="center" style="margin: 0px\; padding: 0px\; color: rgb(0\, 0\, 0)\; font-family: Tahoma\, Geneva\, sans-serif\; font-size: 12px\; line-height: 14.8827896118164px\; text-align: center\;"><font color="#0000DD" face="Times New Roman" style="font-family: 'Times New Roman'\; font-size: 18pt\; color: rgb(0\, 0\, 221)\;"><b>WHAT TO BRING:</b></font></div>\n&nbsp\;\n\n<div align="center" style="margin: 0px\; padding: 0px\; color: rgb(0\, 0\, 0)\; font-family: Tahoma\, Geneva\, sans-serif\; font-size: 12px\; line-height: 14.8827896118164px\; text-align: center\;"><font color="#0000DD" face="Times New Roman" style="font-family: 'Times New Roman'\; font-size: 18pt\; color: rgb(0\, 0\, 221)\;"><b>Styrofoam - Foam Cups</b></font></div>\n&nbsp\;\n\n<div align="center" style="margin: 0px\; padding: 0px\; color: rgb(0\, 0\, 0)\; font-family: Tahoma\, Geneva\, sans-serif\; font-size: 12px\; line-height: 14.8827896118164px\; text-align: center\;"><font color="#0000DD" face="Times New Roman" style="font-family: 'Times New Roman'\; font-size: 18pt\; color: rgb(0\, 0\, 221)\;"><b>Foam Trays - Take Out Containers - Packing Blocks Bubble Wrap - Packing Peanuts</b></font></div>\n<br style="color: rgb(0\, 0\, 0)\; font-family: Tahoma\, Geneva\, sans-serif\; font-size: 12px\; line-height: 14.8827896118164px\;" />\n<div align="center" style="margin: 0px\; padding: 0px\; color: rgb(0\, 0\, 0)\; font-family: Tahoma\, Geneva\, sans-serif\; font-size: 12px\; line-height: 14.8827896118164px\; text-align: center\;"><font color="#0000DD" face="Times New Roman" style="font-family: 'Times New Roman'\; font-size: 18pt\; color: rgb(0\, 0\, 221)\;"><b>&nbsp\;</b></font></div>\n&nbsp\;\n\n<div align="center" style="margin: 0px\; padding: 0px\; color: rgb(0\, 0\, 0)\; font-family: Tahoma\, Geneva\, sans-serif\; font-size: 12px\; line-height: 14.8827896118164px\; text-align: center\;"><font color="#0000DD" face="Times New Roman" style="font-family: 'Times New Roman'\; font-size: 18pt\; color: rgb(0\, 0\, 221)\;"><b>WHAT NOT TO BRING:</b></font></div>\n&nbsp\;\n\n<div align="center" style="margin: 0px\; padding: 0px\; color: rgb(0\, 0\, 0)\; font-family: Tahoma\, Geneva\, sans-serif\; font-size: 12px\; line-height: 14.8827896118164px\; text-align: center\;"><font color="#0000DD" face="Times New Roman" style="font-family: 'Times New Roman'\; font-size: 18pt\; color: rgb(0\, 0\, 221)\;"><b>Insulation - Soft Foam - Pipe Insulation</b></font></div>\n&nbsp\;\n\n<div align="center" style="margin: 0px\; padding: 0px\; color: rgb(0\, 0\, 0)\; font-family: Tahoma\, Geneva\, sans-serif\; font-size: 12px\; line-height: 14.8827896118164px\; text-align: center\;"><font color="#0000DD" face="Times New Roman" style="font-family: 'Times New Roman'\; font-size: 18pt\; color: rgb(0\, 0\, 221)\;"><b>&nbsp\;</b></font></div>\n&nbsp\;\n\n<div align="center" style="margin: 0px\; padding: 0px\; color: rgb(0\, 0\, 0)\; font-family: Tahoma\, Geneva\, sans-serif\; font-size: 12px\; line-height: 14.8827896118164px\; text-align: center\;"><font color="#0000DD" face="Times New Roman" style="font-family: 'Times New Roman'\; font-size: 18pt\; color: rgb(0\, 0\, 221)\;"><b>THIS IS AN OPEN EVENT - EVERYONE WELCOME!</b></font><br />\n<br />\n<br />\n&nbsp\;</div>\n
LOCATION:
UID:e.518.18906
SEQUENCE:3
DTSTAMP:20260424T173251Z
URL:http://nashoba.preview.gochambermaster.com/events/details/styrofoam-recycling-event-bolton-transfer-station-01-10-2015-18906
END:VEVENT

END:VCALENDAR
