BEGIN:VCALENDAR
VERSION:2.0
PRODID:-//ChamberMaster//Event Calendar 2.0//EN
METHOD:PUBLISH
X-PUBLISHED-TTL:P3D
REFRESH-INTERVAL:P3D
CALSCALE:GREGORIAN
BEGIN:VEVENT
DTSTART;VALUE=DATE:20141128
DTEND;VALUE=DATE:20141129
TRANSP:TRANSPARENT
X-MICROSOFT-CDO-ALLDAYEVENT:TRUE
SUMMARY:* Ski and Comedy Package\, Wachusett Mtn.\, Princeton
DESCRIPTION:11/28: Ski and Comedy Package\, Wachusett Mtn.\, Princeton   Take a few runs on the mountain and then warm up inside to a comedy act in the private bar of the ski lodge. $35 for the evening combo or $10-$15 just for the show.
X-ALT-DESC;FMTTYPE=text/html:<strong style="box-sizing: border-box\; line-height: 22.1760005950928px\; color: rgb(18\, 18\, 18)\; font-family: 'Droid Sans'\; font-size: 16px\;">11/28:&nbsp\;<a href="https://www.wachusett.com/EventsActivities/CalendarofEvents/KickoffComedyNight/tabid/809/Default.aspx" style="box-sizing: border-box\; color: rgb(0\, 121\, 193)\; text-decoration: none\; line-height: inherit\; -webkit-transition: all 0.3s ease-in-out\; transition: all 0.3s ease-in-out\; outline: none\;" target="_blank">Ski and Comedy Package</a>\,</strong><span style="color: rgb(18\, 18\, 18)\; font-family: 'Droid Sans'\; font-size: 16px\; line-height: 22.1760005950928px\;">&nbsp\;Wachusett Mtn.\, Princeton&nbsp\;&ndash\;&nbsp\;Take a few runs on the mountain and then warm up inside to a comedy act in the private bar of the ski lodge. $35 for the evening combo or $10-$15 just for the show.</span><br />\n<br />\n&nbsp\;
LOCATION:
UID:e.518.18623
SEQUENCE:3
DTSTAMP:20260424T211615Z
URL:http://nashoba.preview.gochambermaster.com/events/details/ski-and-comedy-package-wachusett-mtn-princeton-11-28-2014-18623
END:VEVENT

END:VCALENDAR
