BEGIN:VCALENDAR
VERSION:2.0
PRODID:-//ChamberMaster//Event Calendar 2.0//EN
METHOD:PUBLISH
X-PUBLISHED-TTL:P3D
REFRESH-INTERVAL:P3D
CALSCALE:GREGORIAN
BEGIN:VEVENT
DTSTART;VALUE=DATE:20140821
DTEND;VALUE=DATE:20140822
TRANSP:TRANSPARENT
X-MICROSOFT-CDO-ALLDAYEVENT:TRUE
SUMMARY:* Shirley Center Farmer's Market - 4:00 PM
DESCRIPTION:Shirley Center Farmer's Market - 4:00 PM\n\nContact: Jodie Rachman     grovehouse@comcast.net\n\nPresenting the best of quaint New England. Come stock up on local produce and enjoy our weekly live music while having a bite to eat with friends. Fresh Produce\, Meats\, Seafood\, Eggs\, Bakery Items\, Jams & Jellies\, Maple Products\, Honey\, Farmstead Cheeses\, Flowers & Plants and Functional Crafts\n\nShirley Center Farmer's Market    \n\nLocation: Shirley Center Town Common
X-ALT-DESC;FMTTYPE=text/html:<br>\n<br>\n<strong><span style="background-image:initial\;background-attachment:initial\;background-size:initial\;background-origin:initial\;background-clip:initial\;background-position:initial\;background-repeat:initial\;"><span style="color:black\;"><span style="font-family:arial\,sans-serif\;"><span style="font-size:10.5pt\;">Shirley Center Farmer's Market</span></span></span></span></strong> - <strong><span style="background-image:initial\;background-attachment:initial\;background-size:initial\;background-origin:initial\;background-clip:initial\;background-position:initial\;background-repeat:initial\;"><span style="color:#660066\;"><span style="font-family:arial\,sans-serif\;"><span style="font-size:9pt\;">4:00 PM</span></span></span></span></strong><br>\n<strong><span style="background-image:initial\;background-attachment:initial\;background-size:initial\;background-origin:initial\;background-clip:initial\;background-position:initial\;background-repeat:initial\;"><span style="color:black\;"><span style="font-family:arial\,sans-serif\;"><span style="font-size:10.5pt\;">Contact: Jodie Rachman&nbsp\;&nbsp\;&nbsp\;&nbsp\; grovehouse@comcast.net</span></span></span></span></strong><br>\n<strong><span style="background-image:initial\;background-attachment:initial\;background-size:initial\;background-origin:initial\;background-clip:initial\;background-position:initial\;background-repeat:initial\;"><span style="color:black\;"><span style="font-family:arial\,sans-serif\;"><span style="font-size:10.5pt\;">Presenting the best of quaint New England. Come stock up on local produce and enjoy our weekly live music while having a bite to eat with friends. Fresh Produce\, Meats\, Seafood\, Eggs\, Bakery Items\, Jams &amp\; Jellies\, Maple Products\, Honey\, Farmstead Cheeses\, Flowers &amp\; Plants and Functional Crafts</span></span></span></span></strong><br>\n<strong><span style="background-image:initial\;background-attachment:initial\;background-size:initial\;background-origin:initial\;background-clip:initial\;background-position:initial\;background-repeat:initial\;"><span style="color:black\;"><span style="font-family:arial\,sans-serif\;"><span style="font-size:10.5pt\;">Shirley Center Farmer's Market&nbsp\;&nbsp\;&nbsp\; </span></span></span></span></strong><br>\n<strong><span style="background-image:initial\;background-attachment:initial\;background-size:initial\;background-origin:initial\;background-clip:initial\;background-position:initial\;background-repeat:initial\;"><span style="color:black\;"><span style="font-family:arial\,sans-serif\;"><span style="font-size:10.5pt\;">Location: Shirley Center Town Common</span></span></span></span></strong><br>\n<br>\n<br>\n&nbsp\;
LOCATION:
UID:e.518.17513
SEQUENCE:3
DTSTAMP:20260425T024648Z
URL:http://nashoba.preview.gochambermaster.com/events/details/shirley-center-farmer-s-market-4-00-pm-08-21-2014-17513
END:VEVENT

END:VCALENDAR
