BEGIN:VCALENDAR
VERSION:2.0
PRODID:-//ChamberMaster//Event Calendar 2.0//EN
METHOD:PUBLISH
X-PUBLISHED-TTL:P3D
REFRESH-INTERVAL:P3D
CALSCALE:GREGORIAN
BEGIN:VEVENT
DTSTART;VALUE=DATE:20140913
DTEND;VALUE=DATE:20140914
TRANSP:TRANSPARENT
X-MICROSOFT-CDO-ALLDAYEVENT:TRUE
SUMMARY:* SANS 2014 Walk to Prevent Suicide
DESCRIPTION:Saturday\, September 13at 9:00am\n\nFay Park\, Foster St. Littleton\, MA 01460\n\n\n\nSee A New Sun Foundation is again sponsoring our local annual walk to prevent suicide. Please join us and support suicide prevention!! Registration 9:00 am.\n\n\n\nJust to let everyone know\, there is a $20.00 registration fee for the walk event. See the website at www.4sans.org or call 978-486-4928 for more information.
X-ALT-DESC;FMTTYPE=text/html:Saturday\, September 13at 9:00am<br />\nFay Park\, Foster St. Littleton\, MA 01460<br />\n<br />\n<span style="background:white\;"><span style="color:#141823\;"><span style="font-family:helvetica\,sans-serif\;"><span style="font-size:10.0pt\;">See A New Sun Foundation is again sponsoring our local annual walk to prevent suicide. Please join us and support suicide prevention!! Registration 9:00 am.</span></span></span></span><br />\n<br />\n<span style="background:white\;"><span style="color:#141823\;"><span style="font-family:helvetica\,sans-serif\;"><span style="font-size:10.0pt\;">Just to let everyone know\, there is a $20.00 registration fee for the walk event. See the website at&nbsp\;</span></span></span></span><a href="http://www.4sans.org/" style="cursor:pointer\;" target="_blank"><span style="background:white\;text-decoration:none\;text-underline:none\;"><span style="color:#3B5998\;"><span style="font-family:helvetica\,sans-serif\;"><span style="font-size:10.0pt\;">www.4sans.org</span></span></span></span></a>&nbsp\;<span style="background:white\;"><span style="color:#141823\;"><span style="font-family:helvetica\,sans-serif\;"><span style="font-size:10.0pt\;">or call 978-486-4928 for more information.&nbsp\;</span></span></span></span>
LOCATION:
UID:e.518.17710
SEQUENCE:3
DTSTAMP:20260425T011322Z
URL:http://nashoba.preview.gochambermaster.com/events/details/sans-2014-walk-to-prevent-suicide-09-13-2014-17710
END:VEVENT

END:VCALENDAR
