BEGIN:VCALENDAR
VERSION:2.0
PRODID:-//ChamberMaster//Event Calendar 2.0//EN
METHOD:PUBLISH
X-PUBLISHED-TTL:P3D
REFRESH-INTERVAL:P3D
CALSCALE:GREGORIAN
BEGIN:VEVENT
DTSTART;VALUE=DATE:20140920
DTEND;VALUE=DATE:20140921
TRANSP:TRANSPARENT
X-MICROSOFT-CDO-ALLDAYEVENT:TRUE
SUMMARY:* Rodman Ride for Kids with LUK Mentoring
DESCRIPTION:Saturday\, September 20th is the Rodman Ride for Kids that LUK Mentoring is taking part in for the 4th year in a row. We need riders!! For information about joining our team or to fundraise to support the youth and volunteers in our community\, please visit http://bit.ly/1jTYR4H\n\n \n\nLUK\, Inc.\n\nwww.luk.org\n\nwww.facebook.com/LetUsKnowINC \n\nwww.twitter.com/LUKinc1\n\nwww.youtube.com/user/LUKvideo4u
X-ALT-DESC;FMTTYPE=text/html:<br />\n<br />\n<span style="color:black\;">Saturday\, September 20th is the Rodman Ride for Kids that LUK Mentoring is taking part in for the 4th year in a row. We need riders!! For information about joining our team&nbsp\;or to&nbsp\;fundraise to support the youth and volunteers in our community\, please visit <a href="http://bit.ly/1jTYR4H">http://bit.ly/1jTYR4H</a></span><br />\n&nbsp\;<br />\n<span style="color:black\;"><span style="font-family:georgia\,serif\;">LUK\, Inc.</span></span><br />\n<span style="color:black\;"><a href="http://www.luk.org">www.luk.org</a></span><br />\n<span style="color:black\;"><a href="http://www.facebook.com/LetUsKnowINC">www.facebook.com/LetUsKnowINC</a> </span><br />\n<span style="color:black\;"><a href="http://www.twitter.com/LUKinc1">www.twitter.com/LUKinc1</a></span><br />\n<span style="color:black\;"><a href="https://www.youtube.com/user/LUKvideo4u">www.youtube.com/user/LUKvideo4u</a>&nbsp\;</span><br />\n&nbsp\;<br />\n&nbsp\;<br />\n<br />\n<br />\n&nbsp\;
LOCATION:
UID:e.518.17555
SEQUENCE:3
DTSTAMP:20260425T024649Z
URL:http://nashoba.preview.gochambermaster.com/events/details/rodman-ride-for-kids-with-luk-mentoring-09-20-2014-17555
END:VEVENT

END:VCALENDAR
