BEGIN:VCALENDAR
VERSION:2.0
PRODID:-//ChamberMaster//Event Calendar 2.0//EN
METHOD:PUBLISH
X-PUBLISHED-TTL:P3D
REFRESH-INTERVAL:P3D
CALSCALE:GREGORIAN
BEGIN:VEVENT
DTSTART;VALUE=DATE:20150129
DTEND;VALUE=DATE:20150130
TRANSP:TRANSPARENT
X-MICROSOFT-CDO-ALLDAYEVENT:TRUE
SUMMARY:* Rep. Kate Hogan to hold office hours
DESCRIPTION:State Rep. Kate Hogan will hold office hours at the Bolton Public Library on Thursday\, 1/29 from 5:30 until 6:30.  As always\, this is a drop-in session with no appointment required.  Constituents set the agenda so bring your concerns and thoughts about issues.
X-ALT-DESC;FMTTYPE=text/html:<span style="color: rgb(0\, 0\, 0)\; font-family: Arial\; font-size: 18.6666660308838px\; line-height: 18.3829326629639px\;">State Rep. Kate Hogan will hold office hours at the Bolton Public Library on Thursday\, 1/29 from 5:30 until 6:30. &nbsp\;As always\, this is a drop-in session with no appointment required. &nbsp\;Constituents set the agenda so bring your concerns and thoughts about issues.</span><br />\n<br />\n&nbsp\;
LOCATION:
UID:e.518.19977
SEQUENCE:3
DTSTAMP:20260424T160415Z
URL:http://nashoba.preview.gochambermaster.com/events/details/rep-kate-hogan-to-hold-office-hours-01-29-2015-19977
END:VEVENT

END:VCALENDAR
