BEGIN:VCALENDAR
VERSION:2.0
PRODID:-//ChamberMaster//Event Calendar 2.0//EN
METHOD:PUBLISH
X-PUBLISHED-TTL:P3D
REFRESH-INTERVAL:P3D
CALSCALE:GREGORIAN
BEGIN:VEVENT
DTSTART:20141104T130000Z
DTEND:20141104T140000Z
X-MICROSOFT-CDO-ALLDAYEVENT:FALSE
SUMMARY:Public Policy Committee Meeting - 11/04/2014
DESCRIPTION:
X-ALT-DESC;FMTTYPE=text/html:<br />\n&nbsp\;
LOCATION:
UID:e.518.18361
SEQUENCE:3
DTSTAMP:20260424T211644Z
URL:http://nashoba.preview.gochambermaster.com/events/details/public-policy-committee-meeting-11-04-2014-11-04-2014-18361
END:VEVENT

END:VCALENDAR
