BEGIN:VCALENDAR
VERSION:2.0
PRODID:-//ChamberMaster//Event Calendar 2.0//EN
METHOD:PUBLISH
X-PUBLISHED-TTL:P3D
REFRESH-INTERVAL:P3D
CALSCALE:GREGORIAN
BEGIN:VEVENT
DTSTART;VALUE=DATE:20141122
DTEND;VALUE=DATE:20141124
TRANSP:TRANSPARENT
X-MICROSOFT-CDO-ALLDAYEVENT:TRUE
SUMMARY:* Photos with Tina Turkey (a human turkey) at Unique Boutique
DESCRIPTION:Townsend Business Association will be hosting Photos with Tina Turkey (a human turkey) at Unique Boutique on Saturday 11/22 10-2 & Sunday 11/23 12-2. Bring the kids & your cell phones & cameras & take a kodak moment with Tina. Makes a great Xmas card! Plus the event is FREE! Door prizes will be raffled for all attending & having their picture taken. Hope to see you all here! Gobble Gobble!
X-ALT-DESC;FMTTYPE=text/html:Townsend Business Association will be hosting Photos with Tina Turkey (a human turkey) at Unique Boutique on Saturday 11/22 10-2 &amp\; Sunday 11/23 12-2. Bring the kids &amp\; your cell phones &amp\; cameras &amp\; take a kodak moment with Tina. Makes a great Xmas card! Plus the event is FREE! Door prizes will be raffled for all attending &amp\; having their picture taken. Hope to see you all here! Gobble Gobble!<br />\n<br />\n<br />\n&nbsp\;
LOCATION:
UID:e.518.18639
SEQUENCE:3
DTSTAMP:20260424T211806Z
URL:http://nashoba.preview.gochambermaster.com/events/details/photos-with-tina-turkey-a-human-turkey-at-unique-boutique-11-22-2014-18639
END:VEVENT

END:VCALENDAR
