BEGIN:VCALENDAR
VERSION:2.0
PRODID:-//ChamberMaster//Event Calendar 2.0//EN
METHOD:PUBLISH
X-PUBLISHED-TTL:P3D
REFRESH-INTERVAL:P3D
CALSCALE:GREGORIAN
BEGIN:VEVENT
DTSTART;VALUE=DATE:20150519
DTEND;VALUE=DATE:20150520
TRANSP:TRANSPARENT
X-MICROSOFT-CDO-ALLDAYEVENT:TRUE
SUMMARY:* Perkins Golf Tournament
DESCRIPTION:The Perkins 12th Annual Golf Tournament will be held on Tuesday\, May 19\, 2015 at the beautiful Sterling National Country Club. . The proceeds from this tournament support programs and services for our students. You can help make difference by golfing\, serving as an event sponsor\, donating a raffle prize\, or simply making a donation. Please visit our online e-journal to learn more about event details\n\nPerkins Golf 2015 E-journal
X-ALT-DESC;FMTTYPE=text/html:<p style="margin: 0px 0px 15px\; padding: 0px\; border: 0px\; font-family: arial\, sans-serif\; font-size: 14px\; font-stretch: inherit\; line-height: 25.2000007629395px\; vertical-align: baseline\; color: rgb(85\, 85\, 85)\;">The Perkins 12<span style="margin: 0px\; padding: 0px\; border: 0px\; font-family: inherit\; font-size: inherit\; font-style: inherit\; font-variant: inherit\; font-weight: inherit\; font-stretch: inherit\; line-height: 1\; vertical-align: baseline\; height: 0px\; position: relative\; bottom: 1ex\;">th</span>&nbsp\;Annual Golf Tournament will be held on Tuesday\, May 19\, 2015 at the beautiful Sterling National Country Club. . The proceeds from this tournament support programs and services for our students. You can help make difference by golfing\, serving as an event sponsor\, donating a raffle prize\, or simply making a donation.&nbsp\;Please visit our online e-journal to learn more about event details</p>\n\n<p style="margin: 0px 0px 15px\; padding: 0px\; border: 0px\; font-family: arial\, sans-serif\; font-size: 14px\; font-stretch: inherit\; line-height: 25.2000007629395px\; vertical-align: baseline\; color: rgb(85\, 85\, 85)\;"><strong style="margin: 0px\; padding: 0px\; border: 0px\; font-family: inherit\; font-size: inherit\; font-style: inherit\; font-variant: inherit\; font-stretch: inherit\; line-height: inherit\; vertical-align: baseline\;"><a href="http://wizadjournal.com/perkinsgolf2015" style="margin: 0px\; padding: 0px\; border: 0px\; font-family: inherit\; font-size: inherit\; font-style: inherit\; font-variant: inherit\; font-weight: inherit\; font-stretch: inherit\; line-height: inherit\; vertical-align: baseline\; outline: none\; color: rgb(85\, 85\, 85)\;" title="Perkins Golf 2015 E-journal">Perkins Golf 2015 E-journal</a></strong><br />\n&nbsp\;</p>\n
LOCATION:
UID:e.518.20895
SEQUENCE:3
DTSTAMP:20260424T024037Z
URL:http://nashoba.preview.gochambermaster.com/events/details/perkins-golf-tournament-05-19-2015-20895
END:VEVENT

END:VCALENDAR
