BEGIN:VCALENDAR
VERSION:2.0
PRODID:-//ChamberMaster//Event Calendar 2.0//EN
METHOD:PUBLISH
X-PUBLISHED-TTL:P3D
REFRESH-INTERVAL:P3D
CALSCALE:GREGORIAN
BEGIN:VEVENT
DTSTART;VALUE=DATE:20141025
DTEND;VALUE=DATE:20141026
TRANSP:TRANSPARENT
X-MICROSOFT-CDO-ALLDAYEVENT:TRUE
SUMMARY:* Pepperell Fourth of July committee's Murder Mystery Dinner
DESCRIPTION:Pepperell Fourth of July committee's Murder Mystery Dinner Saturday October 25th starting at 6pm at the Townsend Ridge Country Club (Bailey's on the Green) Townsend MA. Setting is a 1920 wedding where someone is murdered (audience participation to find the murderer). Cocktail hour starts at 6pm  Prime Rib Dinner\, and reception dancing and music with Platinum Entertainment Disc Jockey & Event Lighting (djpartymusic.com). \n\nTickets sold at Bailey's Pub (Townsend) Mariano's (Dolce's)\, Pure Energy Gymnastics\, Lawrence Libary\, Pepperell Beverage all in Pepperell.  Pepperell Fourth of July\, Danielle (Lund) Pegram or Bridget Morris. $60 per person $100 per couple. Silent auction\,  gift baskets\,  raffles etc.\n\nPlanning a wedding\, holiday event\, or reunion? Come see the event magic happen in real time.
X-ALT-DESC;FMTTYPE=text/html:<br />\nPepperell Fourth of July committee&#39\;s Murder Mystery Dinner Saturday October 25th starting at 6pm at the Townsend Ridge Country Club (Bailey&#39\;s on the Green) Townsend MA.&nbsp\;Setting is a 1920 wedding where someone is murdered (audience participation to find the murderer). Cocktail hour starts at 6pm &nbsp\;Prime Rib Dinner\, and reception dancing and music with Platinum Entertainment Disc Jockey &amp\; Event Lighting (djpartymusic.com).&nbsp\;<br />\nTickets sold at Bailey&#39\;s Pub (Townsend) Mariano&#39\;s (Dolce&#39\;s)\, Pure Energy Gymnastics\, Lawrence Libary\, Pepperell Beverage all in Pepperell. &nbsp\;Pepperell Fourth of July\, Danielle (Lund) Pegram or&nbsp\;Bridget Morris. $60 per person $100 per couple. Silent auction\, &nbsp\;gift baskets\, &nbsp\;raffles etc.<br />\nPlanning a wedding\, holiday event\, or reunion? Come see the event magic happen in real time.<br />\n&nbsp\;
LOCATION:
UID:e.518.18333
SEQUENCE:3
DTSTAMP:20260424T224429Z
URL:http://nashoba.preview.gochambermaster.com/events/details/pepperell-fourth-of-july-committee-s-murder-mystery-dinner-10-25-2014-18333
END:VEVENT

END:VCALENDAR
