BEGIN:VCALENDAR
VERSION:2.0
PRODID:-//ChamberMaster//Event Calendar 2.0//EN
METHOD:PUBLISH
X-PUBLISHED-TTL:P3D
REFRESH-INTERVAL:P3D
CALSCALE:GREGORIAN
BEGIN:VEVENT
DTSTART:20140823T130000Z
DTEND:20140823T170000Z
X-MICROSOFT-CDO-ALLDAYEVENT:FALSE
SUMMARY:* Pepperell Farmers Market - at Pepperell Town Field
DESCRIPTION:http://pepperellfarmersmarket.com/
X-ALT-DESC;FMTTYPE=text/html:<br />\n<br />\nhttp://pepperellfarmersmarket.com/<br />\n<br />\n&nbsp\;
LOCATION:
UID:e.518.17337
SEQUENCE:3
DTSTAMP:20260425T024728Z
URL:http://nashoba.preview.gochambermaster.com/events/details/pepperell-farmers-market-at-pepperell-town-field-08-23-2014-17337
END:VEVENT

END:VCALENDAR
