BEGIN:VCALENDAR
VERSION:2.0
PRODID:-//ChamberMaster//Event Calendar 2.0//EN
METHOD:PUBLISH
X-PUBLISHED-TTL:P3D
REFRESH-INTERVAL:P3D
CALSCALE:GREGORIAN
BEGIN:VEVENT
DTSTART;VALUE=DATE:20150319
DTEND;VALUE=DATE:20150320
TRANSP:TRANSPARENT
X-MICROSOFT-CDO-ALLDAYEVENT:TRUE
SUMMARY:* PBA Networking After Hours (at Breen's Diner)
DESCRIPTION:Thursday March 19th 5:30pm-7:30pm Networking event at the New Breen's Diner Main street. Come check out the new 50's diner and take yourself back in time. Another great opportunity to meet the Breen's and network with local business people.\n\nRegister - \n\nP. Derek Ten Broeck Jr.\, President\n\nPepperell Business Association\n\n\n\n 978-433-6300
X-ALT-DESC;FMTTYPE=text/html:<b style="color: rgb(0\, 0\, 0)\; font-family: Calibri\, sans-serif\; font-size: 14.6666669845581px\; line-height: 14.443733215332px\; text-indent: -24px\;"><u><span style="font-size: 14pt\;">Thursday March 19<span style="vertical-align: text-top\;">th</span>&nbsp\;5:30pm-7:30pm</span></u></b><b style="color: rgb(0\, 0\, 0)\; font-family: Calibri\, sans-serif\; font-size: 14.6666669845581px\; line-height: 14.443733215332px\; text-indent: -24px\;"><span style="font-size: 14pt\;">&nbsp\;</span></b><span style="color: rgb(0\, 0\, 0)\; font-family: Calibri\, sans-serif\; text-indent: -24px\; font-size: 14pt\;">Networking event at the New Breen&rsquo\;s Diner Main street. Come check out the new 50&rsquo\;s diner and take yourself back in time. Another great opportunity to meet the Breen&rsquo\;s and network with local business people.<br />\nRegister -&nbsp\;</span><br style="line-height: 18.9090900421143px\;" />\n<span style="font-size: 14pt\;">P. Derek Ten&nbsp\;Broeck&nbsp\;Jr.\, President</span><br style="line-height: 18.9090900421143px\;" />\n<span style="font-size: 14pt\;">Pepperell&nbsp\;Business Association</span><br style="line-height: 18.9090900421143px\;" />\n<br style="line-height: 18.9090900421143px\;" />\n<span style="line-height: 18.9090900421143px\;">&nbsp\;</span><em style="line-height: 18.9090900421143px\;">978-433-6300</em><br style="line-height: 18.9090900421143px\;" />\n<br />\n<br />\n&nbsp\;
LOCATION:
UID:e.518.20001
SEQUENCE:3
DTSTAMP:20260424T053542Z
URL:http://nashoba.preview.gochambermaster.com/events/details/pba-networking-after-hours-at-breen-s-diner-03-19-2015-20001
END:VEVENT

END:VCALENDAR
