BEGIN:VCALENDAR
VERSION:2.0
PRODID:-//ChamberMaster//Event Calendar 2.0//EN
METHOD:PUBLISH
X-PUBLISHED-TTL:P3D
REFRESH-INTERVAL:P3D
CALSCALE:GREGORIAN
BEGIN:VEVENT
DTSTART;VALUE=DATE:20150509
DTEND;VALUE=DATE:20150510
TRANSP:TRANSPARENT
X-MICROSOFT-CDO-ALLDAYEVENT:TRUE
SUMMARY:* Parade of Brides (United Church of Shirley)
DESCRIPTION:https://www.facebook.com/events/1445928895704539/\n\n\n\nShirley Historical Society will display antique wedding gowns and models will show a collection of 20th century gowns. $15 donation benefits theShirley Historical Society\n\n\n\nSaturday\, May 9\n\n2pm - 4pm\n\nat United Church of Shirley
X-ALT-DESC;FMTTYPE=text/html:https://www.facebook.com/events/1445928895704539/<br />\n<br />\n<span style="color: rgb(20\, 24\, 35)\; font-family: helvetica\, arial\, 'lucida grande'\, sans-serif\; font-size: 14px\; line-height: 20.844446182251px\;">Shirley Historical Society will display antique wedding gowns and models will show a collection of 20th century gowns. $15 donation benefits </span><span style="color: rgb(20\, 24\, 35)\; font-family: helvetica\, arial\, 'lucida grande'\, sans-serif\; font-size: 14px\; line-height: 20.844446182251px\;">the</span><a data-gt="{&quot\;entity_id&quot\;:&quot\;175074102532316&quot\;\,&quot\;entity_path&quot\;:&quot\;WebEventPublicProdFeedPermalinkController&quot\;}" data-hovercard="/ajax/hovercard/page.php?id=175074102532316&amp\;extragetparams=%7B%22directed_target_id%22%3A0%7D" href="https://www.facebook.com/pages/Shirley-Historical-Society/175074102532316" style="color: rgb(59\, 89\, 152)\; cursor: pointer\; text-decoration: none\; font-family: helvetica\, arial\, 'lucida grande'\, sans-serif\; font-size: 14px\; line-height: 20.844446182251px\;">Shirley</a><a data-gt="{&quot\;entity_id&quot\;:&quot\;175074102532316&quot\;\,&quot\;entity_path&quot\;:&quot\;WebEventPublicProdFeedPermalinkController&quot\;}" data-hovercard="/ajax/hovercard/page.php?id=175074102532316&amp\;extragetparams=%7B%22directed_target_id%22%3A0%7D" href="https://www.facebook.com/pages/Shirley-Historical-Society/175074102532316" style="color: rgb(59\, 89\, 152)\; cursor: pointer\; text-decoration: none\; font-family: helvetica\, arial\, 'lucida grande'\, sans-serif\; font-size: 14px\; line-height: 20.844446182251px\;"> Historical Society</a><br />\n<br />\nSaturday\, May 9<br />\n2pm - 4pm<br />\nat United Church of Shirley<br />\n<br />\n&nbsp\;
LOCATION:
UID:e.518.20937
SEQUENCE:3
DTSTAMP:20260424T041516Z
URL:http://nashoba.preview.gochambermaster.com/events/details/parade-of-brides-united-church-of-shirley-05-09-2015-20937
END:VEVENT

END:VCALENDAR
