BEGIN:VCALENDAR
VERSION:2.0
PRODID:-//ChamberMaster//Event Calendar 2.0//EN
METHOD:PUBLISH
X-PUBLISHED-TTL:P3D
REFRESH-INTERVAL:P3D
CALSCALE:GREGORIAN
BEGIN:VEVENT
DTSTART;VALUE=DATE:20140320
DTEND;VALUE=DATE:20140321
TRANSP:TRANSPARENT
X-MICROSOFT-CDO-ALLDAYEVENT:TRUE
SUMMARY:* Painting Uncorked at the PCA
DESCRIPTION:Thursday\, March 20\, 2014\, 6:30 PM \n\n 10 Lincoln St. Westford\, MA \n\n\n \n\n\nYou've heard about paint nights\, now \n\njoin in the fun at the Parish Center for the Arts. Create a FLORAL masterpiece in one night through step \n\nby step instruction.  Beginners and experienced painters welcome. Everyone leaves with a ready-to-hang \n\npainting that they created! All materials provided. \n\nAdults  $35 (BYOWine) Teens $25 (punch provided)   Space limited so tell your friends and call now for reservations 978-692-6333 or www.MKTix.com.
X-ALT-DESC;FMTTYPE=text/html:<div class="post-event-data headroom" style="margin-top: 10px\; color: rgb(68\, 68\, 68)\; font-family: Verdana\; font-size: 12px\; line-height: 18px\;">\n<div style="margin-bottom: 10px\;">&nbsp\;<time pubdate="Thu Mar 20 2014 06:30:00">Thursday\, March 20\, 2014</time>\,&nbsp\;<time pubdate="Thu Mar 20 2014 06:30:00">6:30 PM</time>&nbsp\;</div>\n\n<div style="margin-bottom: 10px\;">&nbsp\;10 Lincoln St. Westford\, MA&nbsp\;</div>\n</div>\n\n<div class="post-asset-block headroom" style="margin-top: 10px\; color: rgb(68\, 68\, 68)\; font-family: Verdana\; font-size: 12px\; line-height: 18px\;">&nbsp\;</div>\n\n<div class="post-body headroom clear-fix" itemprop="articleBody" style="font-family: Verdana\; font-size: 14px\; line-height: 21px\; margin-top: 10px\; color: rgb(68\, 68\, 68)\;">\n<p style="margin: 0px 0px 9px\;">You&rsquo\;ve heard about paint nights\, now&nbsp\;<br />\njoin in the fun at the Parish Center for the Arts. Create a FLORAL masterpiece in one night through step&nbsp\;<br />\nby step instruction.&nbsp\; Beginners and experienced painters welcome. Everyone leaves with a ready-to-hang&nbsp\;<br />\npainting that they created! All materials provided.&nbsp\;</p>\n\n<p style="margin: 0px 0px 9px\;">Adults &nbsp\;$35 (BYOWine) Teens $25 (punch provided) &nbsp\;&nbsp\;Space limited so tell your friends and call now for reservations 978-692-6333 or&nbsp\;<a href="http://www.mktix.com/" rel="nofollow" style="color: rgb(32\, 123\, 184)\; text-decoration: none\; cursor: pointer\;">www.MKTix.com</a>.<br />\n<br />\n&nbsp\;</p>\n</div>\n
LOCATION:
UID:e.518.16690
SEQUENCE:3
DTSTAMP:20260425T134033Z
URL:http://nashoba.preview.gochambermaster.com/events/details/painting-uncorked-at-the-pca-03-20-2014-16690
END:VEVENT

END:VCALENDAR
