BEGIN:VCALENDAR
VERSION:2.0
PRODID:-//ChamberMaster//Event Calendar 2.0//EN
METHOD:PUBLISH
X-PUBLISHED-TTL:P3D
REFRESH-INTERVAL:P3D
CALSCALE:GREGORIAN
BEGIN:VEVENT
DTSTART;VALUE=DATE:20140426
DTEND;VALUE=DATE:20140427
TRANSP:TRANSPARENT
X-MICROSOFT-CDO-ALLDAYEVENT:TRUE
SUMMARY:* Pack 32 Cub Scout Memorial Pancake Breakfast
DESCRIPTION:Ayer Cub Scout Pack 32\n\n\n\nAnnual Tyler/ Harrington Memorial Campership Breakfast\n\n\n\nHelp send Scouts to summer camp!\n\n\n\nSt. Andrews Hall\n\n7 Faulkner Street\, Ayer\n\n\n\nSaturday\, April 26\, 2014\n\n7 AM to 11 AM\n\n\n\nAll you can eat for $5.00!\n\n($7.00 at the Door)\n\n\n\nPlease help support Pack 32 Cub Scouts of Ayer\n\n\n\nNeed Tickets? Email: ayerscouts@gmail.com
X-ALT-DESC;FMTTYPE=text/html:<span style="font-size: 10pt\; font-family: Arial\, sans-serif\;">Ayer Cub Scout Pack 32<br />\n<br />\nAnnual Tyler/ Harrington Memorial Campership Breakfast<br />\n<br />\nHelp send Scouts to summer camp!<br />\n<br />\nSt. Andrews Hall<br />\n7 Faulkner Street\, Ayer<br />\n<br />\nSaturday\, April 26\, 2014<br />\n7 AM to 11 AM<br />\n<br />\nAll you can eat for $5.00!<br />\n($7.00 at the Door)<br />\n<br />\nPlease help support Pack 32 Cub Scouts of Ayer<br />\n<br />\nNeed Tickets? Email: <a href="mailto:ayerscouts@gmail.com">ayerscouts@gmail.com</a><br />\n<!--[if !supportLineBreakNewLine]--><br />\n<!--[endif]--></span><br />\n&nbsp\;
LOCATION:
UID:e.518.16748
SEQUENCE:3
DTSTAMP:20260425T104217Z
URL:http://nashoba.preview.gochambermaster.com/events/details/pack-32-cub-scout-memorial-pancake-breakfast-04-26-2014-16748
END:VEVENT

END:VCALENDAR
