BEGIN:VCALENDAR
VERSION:2.0
PRODID:-//ChamberMaster//Event Calendar 2.0//EN
METHOD:PUBLISH
X-PUBLISHED-TTL:P3D
REFRESH-INTERVAL:P3D
CALSCALE:GREGORIAN
BEGIN:VEVENT
DTSTART;VALUE=DATE:20140319
DTEND;VALUE=DATE:20140320
TRANSP:TRANSPARENT
X-MICROSOFT-CDO-ALLDAYEVENT:TRUE
SUMMARY:* OSHA WORKSHOP FOR EMPLOYERS at North Central Career Center
DESCRIPTION:SAVE THE DATE\n\nOSHA WORKSHOP FOR EMPLOYERS\n\n \n\nThe North Central Career Center in Leominster will host a free Employer Workshop to help companies better understand OSHA requirements\, policies and procedures.  \n\n \n\nThis free workshop is a follow up to the workshop we hosted last September and will be geared to OSHA Workplace Violence procedures.  \n\n \n\nWho should attend:\n\n         Any manager with responsibility for OSHA regulations and training.\n\n \n\nWhat you'll learn:\n\n         OSHA Workplace Violence procedures (this is a new element to the workshop)\n\n         How to recognize\, avoid and prevent safety and health hazards in the workplace \n\n         Know what regulations you need to comply with\n\n         How your company can financially benefit from lower worker injury and illnesses\n\n \n\nDate\, time and location :\n\nMarch 19\, 2014   9AM   11AM\n\nNorth Central Career Center\n\n100 Erdman Way\, Leominster\, MA (rear entrance)\n\n \n\nFeatured speakers will be Dale Varney\, Compliance Specialist from OSHA and Kathleen Manson\, Director of Safety with the MA Dept of Industrial Accidents (DIA).\n\n\n\nYou must register for this workshop by March 14th - please contact Scott Percifull at 978-534-1481\, X209 or spercifull@detma.org\n\n \n\nPlease feel free to contact me with any questions.\n\n \n\nBest regards\,\n\nScott\n\n \n\nScott Percifull\n\nBusiness Service Representative\n\nNorth Central Career Centers\,\n\n100 Erdman Way\n\nLeominster\, MA 01453
X-ALT-DESC;FMTTYPE=text/html:<strong><span style="font-size:14.0pt\;">SAVE THE DATE</span></strong><br />\n<strong><span style="font-size:14.0pt\;">OSHA WORKSHOP FOR EMPLOYERS</span></strong><br />\n&nbsp\;<br />\n<span style="font-family:arial\,sans-serif\;">The North Central Career Center in Leominster will host a free Employer Workshop to help companies better understand OSHA requirements\, policies and procedures.&nbsp\; </span><br />\n&nbsp\;<br />\n<span style="color:black\;"><span style="font-family:arial\,sans-serif\;">This free workshop is a follow up to the workshop we hosted last September and will be geared to </span></span><span style="font-family:arial\,sans-serif\;">OSHA Workplace Violence procedures<span style="color:black\;">.&nbsp\; </span></span><br />\n&nbsp\;<br />\n<strong><span style="color:#404040\;"><span style="font-family:arial\,sans-serif\;">Who should attend:</span></span></strong><br />\n<span style="font-family:symbol\;"><span style="font-size:12.0pt\;">&middot\;</span></span>&nbsp\;&nbsp\;&nbsp\;&nbsp\;&nbsp\;&nbsp\;&nbsp\; <strong><span style="font-weight:normal\;"><span style="color:#404040\;"><span style="font-family:arial\,sans-serif\;"><span style="font-size:12.0pt\;">Any manager with responsibility for OSHA regulations and training.</span></span></span></span></strong><br />\n&nbsp\;<br />\n<strong><span style="font-family:arial\,sans-serif\;">What you&rsquo\;ll learn:</span></strong><br />\n<span style="font-family:symbol\;"><span style="font-size:12.0pt\;">&middot\;</span></span>&nbsp\;&nbsp\;&nbsp\;&nbsp\;&nbsp\;&nbsp\;&nbsp\; <span style="font-family:arial\,sans-serif\;"><span style="font-size:12.0pt\;">OSHA Workplace Violence procedures <strong><em>(this is a new element to the workshop)</em></strong></span></span><br />\n<span style="color:black\;"><span style="font-family:symbol\;"><span style="font-size:12.0pt\;">&middot\;</span></span></span>&nbsp\;&nbsp\;&nbsp\;&nbsp\;&nbsp\;&nbsp\;&nbsp\; <span style="font-family:arial\,sans-serif\;"><span style="font-size:12.0pt\;">How to recognize\, avoid and prevent safety and health hazards in the workplace </span></span><br />\n<span style="color:black\;"><span style="font-family:symbol\;"><span style="font-size:12.0pt\;">&middot\;</span></span></span>&nbsp\;&nbsp\;&nbsp\;&nbsp\;&nbsp\;&nbsp\;&nbsp\; <span style="color:black\;"><span style="font-family:arial\,sans-serif\;"><span style="font-size:12.0pt\;">Know what regulations you need to comply with</span></span></span><br />\n<span style="color:black\;"><span style="font-family:symbol\;"><span style="font-size:12.0pt\;">&middot\;</span></span></span>&nbsp\;&nbsp\;&nbsp\;&nbsp\;&nbsp\;&nbsp\;&nbsp\; <span style="color:black\;"><span style="font-family:arial\,sans-serif\;">How y</span></span><span style="color:black\;"><span style="font-family:arial\,sans-serif\;"><span style="font-size:12.0pt\;">our company can financially benefit from lower worker injury and illnesses</span></span></span><br />\n&nbsp\;<br />\n<strong><span style="color:black\;"><span style="font-family:arial\,sans-serif\;">Date\, time and location :</span></span></strong><br />\n<span style="color:black\;"><span style="font-family:arial\,sans-serif\;">March 19\, 2014&nbsp\;&nbsp\; 9AM &ndash\; 11AM</span></span><br />\n<span style="color:black\;"><span style="font-family:arial\,sans-serif\;">North Central Career Center</span></span><br />\n<span style="color:black\;"><span style="font-family:arial\,sans-serif\;">100 Erdman Way\, Leominster\, MA (rear entrance)</span></span><br />\n&nbsp\;<br />\n<span style="font-family:arial\,sans-serif\;">Featured speakers will be Dale Varney\, Compliance Specialist from OSHA and Kathleen Manson\, Director of Safety with the MA Dept of Industrial Accidents (DIA).</span><br />\n<br />\n<span style="font-family:arial\,sans-serif\;">You must register for this workshop by March 14th - please contact Scott Percifull at 978-534-1481\, X209 or </span><a href="mailto:spercifull@detma.org"><span style="font-family:arial\,sans-serif\;">spercifull@detma.org</span></a><br />\n&nbsp\;<br />\n<span style="font-family:arial\,sans-serif\;">Please feel free to contact me with any questions.</span><br />\n&nbsp\;<br />\n<span style="font-family:arial\,sans-serif\;">Best regards\,</span><br />\n<span style="font-family:arial\,sans-serif\;">Scott</span><br />\n&nbsp\;<br />\n<strong>Scott Percifull</strong><br />\nBusiness Service Representative<br />\nNorth Central Career Centers\,<br />\n100 Erdman Way<br />\nLeominster\, MA 01453<br />\n<br />\n<br />\n<br />\n
LOCATION:
UID:e.518.16176
SEQUENCE:3
DTSTAMP:20260425T104453Z
URL:http://nashoba.preview.gochambermaster.com/events/details/osha-workshop-for-employers-at-north-central-career-center-03-19-2014-16176
END:VEVENT

END:VCALENDAR
