BEGIN:VCALENDAR
VERSION:2.0
PRODID:-//ChamberMaster//Event Calendar 2.0//EN
METHOD:PUBLISH
X-PUBLISHED-TTL:P3D
REFRESH-INTERVAL:P3D
CALSCALE:GREGORIAN
BEGIN:VEVENT
DTSTART;VALUE=DATE:20140127
DTEND;VALUE=DATE:20140128
TRANSP:TRANSPARENT
X-MICROSOFT-CDO-ALLDAYEVENT:TRUE
SUMMARY:* Open Rehearsals Spring Season Acton Community Chorus
DESCRIPTION:Open Rehearsals Spring Season Acton Community Chorus: Mondays\, Jan. 27\, Feb. 3\, 8 p.m.\, Faith Evangelical Free Church\, 54 Hosmer St.\, Acton. No auditions. (nonchurch-affiliated). Concert: Thirty Award-Winning Years\; May 30\, 31\, 2014\, Boxborough Holiday Inn. www.ActonCommunityChorus.org.
X-ALT-DESC;FMTTYPE=text/html:<span style="color: rgb(0\, 0\, 0)\; font-family: 'Helvetica Neue'\, Helvetica\, Arial\, sans-serif\; font-size: 14px\; line-height: 22.652000427246094px\;">Open Rehearsals Spring Season Acton Community Chorus: Mondays\, Jan. 27\, Feb. 3\, 8 p.m.\, Faith Evangelical Free Church\, 54 Hosmer St.\, Acton. No auditions. (nonchurch-affiliated). Concert: Thirty Award-Winning Years\; May 30\, 31\, 2014\, Boxborough Holiday Inn.&nbsp\;</span><a href="http://www.actoncommunitychorus.org/" style="color: rgb(82\, 120\, 174)\; text-decoration: none\; -webkit-transition: 0.1s ease-out\; transition: 0.1s ease-out\; font-family: 'Helvetica Neue'\, Helvetica\, Arial\, sans-serif\; font-size: 14px\; line-height: 22.652000427246094px\;">www.ActonCommunityChorus.org</a><span style="color: rgb(0\, 0\, 0)\; font-family: 'Helvetica Neue'\, Helvetica\, Arial\, sans-serif\; font-size: 14px\; line-height: 22.652000427246094px\;">.</span><br />\n<br />\n<br />\n<br />\n
LOCATION:
UID:e.518.16128
SEQUENCE:3
DTSTAMP:20260425T185330Z
URL:http://nashoba.preview.gochambermaster.com/events/details/open-rehearsals-spring-season-acton-community-chorus-01-27-2014-16128
END:VEVENT

END:VCALENDAR
