BEGIN:VCALENDAR
VERSION:2.0
PRODID:-//ChamberMaster//Event Calendar 2.0//EN
METHOD:PUBLISH
X-PUBLISHED-TTL:P3D
REFRESH-INTERVAL:P3D
CALSCALE:GREGORIAN
BEGIN:VEVENT
DTSTART;VALUE=DATE:20140406
DTEND;VALUE=DATE:20140407
TRANSP:TRANSPARENT
X-MICROSOFT-CDO-ALLDAYEVENT:TRUE
SUMMARY:* Open House at Applewild
DESCRIPTION:Sunday\, April 6\, 12 noon\, OPEN HOUSE at Applewild School\, 120 Prospect St.\, Fitchburg. www.applewild.org\, 978-342-6053. Tour campus and meet students and faculty. For prospective families interested in the K-8 program as well as parents of toddlers interested in the Child Development Center at Applewild.\n\nhttp://www.applewild.org
X-ALT-DESC;FMTTYPE=text/html:<span style="color: rgb(0\, 0\, 0)\; font-family: Arial\, Helvetica\, sans-serif\; font-size: 12px\; line-height: 16px\;">Sunday\, April 6\, 12 noon\, OPEN HOUSE at Applewild School\, 120 Prospect St.\, Fitchburg. www.applewild.org\, 978-342-6053. Tour campus and meet students and faculty. For prospective families interested in the K-8 program as well as parents of toddlers interested in the Child Development Center at Applewild.</span><br />\nhttp://www.applewild.org&#8203\;<br />\n<br />\n<br />\n<br />\n&nbsp\;
LOCATION:
UID:e.518.16627
SEQUENCE:3
DTSTAMP:20260425T133746Z
URL:http://nashoba.preview.gochambermaster.com/events/details/open-house-at-applewild-04-06-2014-16627
END:VEVENT

END:VCALENDAR
