BEGIN:VCALENDAR
VERSION:2.0
PRODID:-//ChamberMaster//Event Calendar 2.0//EN
METHOD:PUBLISH
X-PUBLISHED-TTL:P3D
REFRESH-INTERVAL:P3D
CALSCALE:GREGORIAN
BEGIN:VEVENT
DTSTART;VALUE=DATE:20150119
DTEND;VALUE=DATE:20150120
TRANSP:TRANSPARENT
X-MICROSOFT-CDO-ALLDAYEVENT:TRUE
SUMMARY:Office Closed - in honor of Martin Luther King Jr.
DESCRIPTION:Our lives begin to end the day we become silent about things that matter.\n\n    ~ Martin Luther King Jr.
X-ALT-DESC;FMTTYPE=text/html:<div style="border-bottom: medium none\; text-align: left\; border-left: medium none\; background-color: #ffffff\; color: #000000\; overflow: hidden\; border-top: medium none\; border-right: medium none\; text-decoration: none"><span class="body">Our lives begin to end the day we become silent about things that matter.<br />\n&nbsp\;&nbsp\;&nbsp\;&nbsp\;~ Martin Luther King Jr. </span><br />\n&nbsp\;</div>\n
LOCATION:
UID:e.518.18897
SEQUENCE:3
DTSTAMP:20260424T173346Z
URL:http://nashoba.preview.gochambermaster.com/events/details/office-closed-in-honor-of-martin-luther-king-jr-01-19-2015-18897
END:VEVENT

END:VCALENDAR
