BEGIN:VCALENDAR
VERSION:2.0
PRODID:-//ChamberMaster//Event Calendar 2.0//EN
METHOD:PUBLISH
X-PUBLISHED-TTL:P3D
REFRESH-INTERVAL:P3D
CALSCALE:GREGORIAN
BEGIN:VEVENT
DTSTART:20140826T130000Z
DTEND:20140826T163000Z
X-MICROSOFT-CDO-ALLDAYEVENT:FALSE
SUMMARY:* North Central Job Fair
DESCRIPTION:The North Central Career Centers will host a job fair on August 26\, 2014 at the Devens Common Center. More than 40 employers and several hundred job seekers are expected to attend.
X-ALT-DESC;FMTTYPE=text/html:The North Central Career Centers will host a job fair on August 26\, 2014 at the Devens Common Center. More than 40 employers and several hundred job seekers are expected to attend.
LOCATION:Devens Common Center 31 Andrews Parkway Devens\, MA 01434
UID:e.518.17566
SEQUENCE:3
DTSTAMP:20260425T040847Z
URL:http://nashoba.preview.gochambermaster.com/events/details/north-central-job-fair-08-26-2014-17566
END:VEVENT

END:VCALENDAR
