BEGIN:VCALENDAR
VERSION:2.0
PRODID:-//ChamberMaster//Event Calendar 2.0//EN
METHOD:PUBLISH
X-PUBLISHED-TTL:P3D
REFRESH-INTERVAL:P3D
CALSCALE:GREGORIAN
BEGIN:VEVENT
DTSTART;VALUE=DATE:20131113
DTEND;VALUE=DATE:20131114
TRANSP:TRANSPARENT
X-MICROSOFT-CDO-ALLDAYEVENT:TRUE
SUMMARY:* North Central Career Center Job Fair
DESCRIPTION:North Central Career Center\n\nJob Fair\n\nNovember 13\, 2013\n\n9am-1230pm\n\n\n\nDoubleTree By Hilton\n\n99 Erdman Way\, Leominster\n\n\n\n\n\nwww.ccncm.com\n\n\n\n\n\n\n\nThe North Central Career Centers will hold a Job Fair on November 13th\, 2013 from 9:00am-12:30pm at the Doubletree Hotel\, 99 Erdman Way in Leominster.  Senator Jen Flanagan will attend for a brief welcome statement.\n\n \n\nThirty two local employers will be on hand to take resumes\, applications and preliminary interviews for jobs in a variety of industries including manufacturing\, social services\, retail and healthcare.  Bring plenty of resumes and dress to meet HR Managers. \n\n \n\nVETERANS WILL BE GIVEN PRIORITY OF SERVICE\n\n\n\nVisit www.ccncm.com for more information and a list of participating companies who are hiring\, or call\n\n (978) 534-1481.
X-ALT-DESC;FMTTYPE=text/html:North Central Career Center<br />\nJob Fair<br />\nNovember 13\, 2013<br />\n9am-1230pm<br />\n<br />\nDoubleTree By Hilton<br />\n99 Erdman&nbsp\;Way\, Leominster<br />\n<br />\n<br />\nwww.ccncm.com<br />\n<br />\n<br />\n<br />\n<span style="color:black\;"><span style="font-family:arial black\,sans-serif\;"><span style="font-size:14.0pt\;">The North Central Career Centers will hold a Job Fair on November 13th\, 2013 from 9:00am-12:30pm at the Doubletree Hotel\, 99 Erdman Way in Leominster. &nbsp\;</span></span></span><span style="color:black\;"><span style="font-family:arial black\,sans-serif\;"><span style="font-size:16.0pt\;">Senator Jen Flanagan will attend for a brief welcome statement.</span></span></span><br />\n&nbsp\;<br />\n<span style="color:black\;"><span style="font-family:arial black\,sans-serif\;"><span style="font-size:14.0pt\;">Thirty two local employers will be on hand to take resumes\, applications and preliminary interviews for jobs in a variety of industries including manufacturing\, social services\, retail and healthcare. &nbsp\;Bring plenty of resumes and dress to meet HR Managers. </span></span></span><br />\n&nbsp\;<br />\n<span style="color:black\;"><span style="font-family:arial black\,sans-serif\;"><span style="font-size:14.0pt\;">VETERANS WILL BE GIVEN PRIORITY OF SERVICE</span></span></span><br />\n<br />\n<span style="color:black\;"><span style="font-family:arial black\,sans-serif\;"><span style="font-size:14.0pt\;">Visit <a href="http://www.ccncm.com/" target="_blank"><span style="color:black\;">www.ccncm.com</span></a></span> for more information and a list of participating companies who are hiring\, or call</span></span><br />\n<span style="color:black\;"><span style="font-family:arial black\,sans-serif\;"><span style="font-size:14.0pt\;">&nbsp\;(978) 534-1481.</span></span></span><br />\n<br />\n
LOCATION:
UID:e.518.15227
SEQUENCE:3
DTSTAMP:20260426T042332Z
URL:http://nashoba.preview.gochambermaster.com/events/details/north-central-career-center-job-fair-11-13-2013-15227
END:VEVENT

END:VCALENDAR
