BEGIN:VCALENDAR
VERSION:2.0
PRODID:-//ChamberMaster//Event Calendar 2.0//EN
METHOD:PUBLISH
X-PUBLISHED-TTL:P3D
REFRESH-INTERVAL:P3D
CALSCALE:GREGORIAN
BEGIN:VEVENT
DTSTART;VALUE=DATE:20150328
DTEND;VALUE=DATE:20150329
TRANSP:TRANSPARENT
X-MICROSOFT-CDO-ALLDAYEVENT:TRUE
SUMMARY:* New Horizons in Hypnosis--LOA: A Practical Approach to Attracting What You Want
DESCRIPTION:LOA: A Practical Approach to \n\nAttracting What You Want\n\n \n\nBy now\, you've heard of the Law of Attraction\, \n\nand you may have watched the movie "The Secret" or "What the Bleep Do You Know?"  But do you wonder how it really works?  Do you feel like you're a positive person with clear goals but you're still not getting the results you want? Would you like to learn a practical approach to apply the Law of Attraction (LOA) principles to your life?\n\n \n\nLOA is more than just putting out positive thoughts into the Universe. \n\nIn this workshop\, we'll explore the key components to using LOA to attract what you want in your career\, your life\, your relationships and more. Using a variety of exercises\, you'll get clarity and focus on what you want\, learn how to direct attention to your thoughts and feelings\, address any fears or self-limiting beliefs that get in the way\, and allow your dreams and goals to become a reality.\n\n\n\n\n\n \nSpace is Limited -- Sign Up Now!\n\n \n\nSaturday\, March 28th\n\n10:00am - 12:30pm\n\n \n\nLittleton Community Education (PRCE)\n\n33 Shattuck Street\n\nLittleton\, MA 01460\n\n\n\n $50/person - pre-registration required\n\n \n\nHow to Register: \n\nCall (978) 540-2490 or Register On-Line at:\n\nwww.LittletonRec.com\n\n \n\n \n\n For more information\, feel free to call one of the instructors:\n\nClare Harlow:  (978) 394-1057\n\nLinda Donalds:  (508) 246-2721
X-ALT-DESC;FMTTYPE=text/html:<div style="text-align: center\;">\n<p style="margin:0in\;margin-bottom:.0001pt"><br />\n<strong><span style="font-size:\n18.0pt\;font-family:&quot\;Trebuchet MS&quot\;\,&quot\;sans-serif&quot\;\;color:#5E0069">LOA: A Practical Approach to&nbsp\;</span></strong><br />\n<strong><span style="font-size:\n18.0pt\;font-family:&quot\;Trebuchet MS&quot\;\,&quot\;sans-serif&quot\;\;color:#5E0069">Attracting What You Want</span></strong><span style="font-size:18.0pt\;\nfont-family:&quot\;Trebuchet MS&quot\;\,&quot\;sans-serif&quot\;\;color:#5E0069"><o:p></o:p></span></p>\n</div>\n&nbsp\;<br />\n<strong><span style="font-family:verdana\,sans-serif\;"><span style="font-size:11pt\;">By now\, you&#39\;ve heard of the Law of Attraction</span></span></strong><span style="font-family:verdana\,sans-serif\;"><span style="font-size:11pt\;">\,&nbsp\;</span></span><br />\n<span style="font-family:verdana\,sans-serif\;"><span style="font-size:11pt\;">and you may have watched the movie &quot\;The Secret&quot\; or &quot\;What the Bleep Do You Know?&quot\;&nbsp\; But do you wonder how it really works?&nbsp\; Do you feel like you&#39\;re a positive person with clear goals but you&#39\;re still not getting the results you want? Would you like to learn a practical approach to apply the Law of Attraction (LOA) principles to your life?</span></span><br />\n&nbsp\;<br />\n<strong><span style="font-family:verdana\,sans-serif\;"><span style="font-size:11pt\;">LOA is more than just putting out positive thoughts into the Universe. </span></span></strong><br />\n<span style="font-family:verdana\,sans-serif\;"><span style="font-size:11pt\;">In this workshop\, we&#39\;ll explore the key components to using LOA to attract what you want in your career\, your life\, your relationships and more. Using a variety of exercises\, you&#39\;ll get clarity and focus on what you want\, learn how to direct attention to your thoughts and feelings\, address any fears or self-limiting beliefs that get in the way\, and allow your dreams and goals to become a reality.</span></span><br />\n<br />\n<br />\n&nbsp\;\n<div style="text-align: center\;"><strong><span style="font-family:arial\,sans-serif\;"><span style="font-size:20pt\;">Space is Limited -- Sign Up Now!</span></span></strong><br />\n&nbsp\;<br />\n<strong><span style="font-family:arial\,sans-serif\;"><span style="font-size:14pt\;">Saturday\, March 28th</span></span></strong><br />\n<strong><span style="font-family:arial\,sans-serif\;"><span style="font-size:14pt\;">10:00am - 12:30pm</span></span></strong><br />\n&nbsp\;<br />\n<strong><span style="color:#005900\;"><span style="font-family:arial\,sans-serif\;">Littleton Community Education (PRCE)</span></span></strong><br />\n<strong><span style="color:#005900\;"><span style="font-family:arial\,sans-serif\;">33 Shattuck Street</span></span></strong><br />\n<strong><span style="color:#005900\;"><span style="font-family:arial\,sans-serif\;">Littleton\, MA 01460</span></span></strong><br />\n<br />\n<span style="font-family:arial\,sans-serif\;"><span style="font-size:11pt\;">&nbsp\;$50/person - pre-registration required</span></span><br />\n&nbsp\;<br />\n<strong><span style="font-family:arial\,sans-serif\;"><span style="font-size:14pt\;">How to Register:&nbsp\;</span></span></strong><br />\n<strong><span style="font-family:arial\,sans-serif\;"><span style="font-size:14pt\;">Call (978) 540-2490 or Register On-Line at:</span></span></strong><br />\n<span style="font-family:arial\,sans-serif\;"><span style="font-size:11pt\;"><a href="http://r20.rs6.net/tn.jsp?f=001ZbPf5eTO5MONWfcpzi4lIVNR88ckukwLHsQUB91P0xWkErkWcrkcHPdlkxcrWhWvyooQ1_Hq76kFs4RIIsPFsBD36oWraxBwRyet3JMcz5QJsdQXhyhPMPuWYLoFH99i7gosjCMU3l7xQIWRPoWvCWBMuebiQKIRKgP1Hy0Wh10=&amp\;c=h8oNDRYGj2PRJYefQ8OGamrfQBWMcXsmKVO-7eIhS9S_LxGIZjZuKQ==&amp\;ch=0vEcpUXlv2AUfJF_cd7vsXInD0NuI0dy96dJd1dlxKaxLJKUhz8bjA==" target="_blank"><strong><span style="color:#005900\;"><span style="font-size:14.0pt\;">www.LittletonRec.com</span></span></strong></a><br />\n&nbsp\;</span></span><br />\n&nbsp\;<br />\n<span style="font-family:arial\,sans-serif\;"><span style="font-size:11pt\;">&nbsp\;For more information\, feel free to call one of the instructors:</span></span><br />\n<span style="font-family:arial\,sans-serif\;"><span style="font-size:11pt\;">Clare Harlow: &nbsp\;(978) 394-1057</span></span><br />\n<span style="font-family:arial\,sans-serif\;"><span style="font-size:11pt\;">Linda Donalds: &nbsp\;(508) 246-2721</span></span><br />\n&nbsp\;</div>\n
LOCATION:
UID:e.518.20623
SEQUENCE:3
DTSTAMP:20260424T053615Z
URL:http://nashoba.preview.gochambermaster.com/events/details/new-horizons-in-hypnosis-loa-a-practical-approach-to-attracting-what-you-want-03-28-2015-20623
END:VEVENT

END:VCALENDAR
