BEGIN:VCALENDAR
VERSION:2.0
PRODID:-//ChamberMaster//Event Calendar 2.0//EN
METHOD:PUBLISH
X-PUBLISHED-TTL:P3D
REFRESH-INTERVAL:P3D
CALSCALE:GREGORIAN
BEGIN:VEVENT
DTSTART;VALUE=DATE:20140426
DTEND;VALUE=DATE:20140427
TRANSP:TRANSPARENT
X-MICROSOFT-CDO-ALLDAYEVENT:TRUE
SUMMARY:* Nashua Valley Boy Scouts - Pinewood Derby Championship
DESCRIPTION:Pinewood Derby Championship on April 26!\n\nCub Scouts\, start your engines!\n\n\n\nWhen: Saturday\, April 26\, 2014 @ 8am\n\nWhere: Fitchburg State University Gym\, 130 North St. Fitchburg\, MA\n\nCost: $10 per racer. Pre-registration required.\n\n\n\nEach pack may register 4 champion Scouts (preferably one each\, Tiger\, Wolf\, Bear\, Webelos) Each racer will receive a limited-edition patch\, participation medal\, and certificate. Trophies will be awarded for each age class (Tiger\, Wolf\, Bear\, Webelos)\, District Champion\, and one overall council champion.\n\n[Read the Rules and Register]
X-ALT-DESC;FMTTYPE=text/html:<span style="color:#003399\;"><span style="font-family:verdana\,sans-serif\;"><span style="font-size:10.5pt\;">Pinewood Derby Championship on April 26!</span></span></span><br />\n<span style="color:#404040\;"><span style="font-family:arial\,sans-serif\;"><span style="font-size:9.0pt\;">Cub Scouts\, start your engines!<br />\n<br />\nWhen: Saturday\, April 26\, 2014 @ 8am<br />\nWhere: Fitchburg State University Gym\, 130 North St. Fitchburg\, MA<br />\nCost: $10 per racer. Pre-registration required.<br />\n<br />\nEach pack may register 4 champion Scouts (preferably one each\, Tiger\, Wolf\, Bear\, Webelos) Each racer will receive a limited-edition patch\, participation medal\, and certificate. Trophies will be awarded for each age class (Tiger\, Wolf\, Bear\, Webelos)\, District Champion\, and one overall council champion.</span></span></span><br />\n<span style="color:#404040\;"><span style="font-family:arial\,sans-serif\;"><span style="font-size:9.0pt\;">[<a href="http://cts.vresp.com/c/?NashuaValleyCouncilI/21af6aa3d0/7fd77ce6a3/d4cae3510b/utm_content=melissa%40nvcoc.com&amp\;utm_source=VerticalResponse&amp\;utm_medium=Email&amp\;utm_term=Read%20the%20Rules%20and%20Register&amp\;utm_campaign=Nashua%20Valley%20Council%20Connections%20-%20February%207" target="_blank">Read the Rules and Register</a>]</span></span></span><br />\n<br />\n<br />\n
LOCATION:
UID:e.518.16175
SEQUENCE:3
DTSTAMP:20260425T104542Z
URL:http://nashoba.preview.gochambermaster.com/events/details/nashua-valley-boy-scouts-pinewood-derby-championship-04-26-2014-16175
END:VEVENT

END:VCALENDAR
