BEGIN:VCALENDAR
VERSION:2.0
PRODID:-//ChamberMaster//Event Calendar 2.0//EN
METHOD:PUBLISH
X-PUBLISHED-TTL:P3D
REFRESH-INTERVAL:P3D
CALSCALE:GREGORIAN
BEGIN:VEVENT
DTSTART:20131022T180000Z
DTEND:20131022T200000Z
X-MICROSOFT-CDO-ALLDAYEVENT:FALSE
SUMMARY:Nashoba Valley Job Seekers - 10/22/2013
DESCRIPTION:The purpose of the Nashoba Valley Job Seekers Group is to provide leads\, ideas\, search strategies and encouragement for area job-seekers through face-to-face meetings and e-mail conversations.\n\n	 \n\n	October 22 - Mick Verran\n\n	What the Hiring Manager is Really Looking For\n\n	You'll\;\n\n	  Pick out the key requirements of specific positions.\n\n	  Identify how the hiring manager will differentiate between candidates.\n\n	  Understand what each person involved in the recruitment process is looking for.\n\n	  Present your candidacy in a way that makes you stand out from the crowd. \n\n	To get the most benefit from these meetings\, please bring along a couple of copies of your r sum \, and any advertisements or job descriptions you're interested in.\n\n	 \n\n	Mick asked that everyone bring a copy of their resume and job descriptions for positions that you have recently applied for\, or plan to apply.  He would like to do some hands-on interest job searching exercises\, so please bring your laptop\, or other Internet capable device.
X-ALT-DESC;FMTTYPE=text/html:<p align="CENTER" dir="LTR">\n	<font face="Times New Roman" size="3"><font face="Times New Roman" size="3"><i><span style="font-size: 14pt\;"><span style="font-family: times new roman\,serif\;"><span style="color: rgb(34\, 34\, 34)\;">The purpose of the Nashoba Valley Job Seekers Group is to provide leads\, ideas\, search strategies and encouragement for area job-seekers through face-to-face meetings and e-mail conversations.</span></span></span><br />\n	&nbsp\;<br />\n	<span style="font-size: 14pt\;"><span style="font-family: times new roman\,serif\;"><span style="color: rgb(34\, 34\, 34)\;">October 22 - Mick Verran</span></span></span><br />\n	<span style="font-size: 14pt\;"><span style="font-family: times new roman\,serif\;"><span style="color: rgb(34\, 34\, 34)\;">What the Hiring Manager is Really Looking For</span></span></span><br />\n	<span style="font-size: 14pt\;"><span style="font-family: times new roman\,serif\;"><span style="color: rgb(34\, 34\, 34)\;">You&rsquo\;ll\;</span></span></span><br />\n	<span style="font-size: 14pt\;"><span style="font-family: times new roman\,serif\;"><span style="color: rgb(34\, 34\, 34)\;">&bull\; Pick out the key requirements of specific positions.</span></span></span><br />\n	<span style="font-size: 14pt\;"><span style="font-family: times new roman\,serif\;"><span style="color: rgb(34\, 34\, 34)\;">&bull\; Identify how the hiring manager will differentiate between candidates.</span></span></span><br />\n	<span style="font-size: 14pt\;"><span style="font-family: times new roman\,serif\;"><span style="color: rgb(34\, 34\, 34)\;">&bull\; Understand what each person involved in the recruitment process is looking for.</span></span></span><br />\n	<span style="font-size: 14pt\;"><span style="font-family: times new roman\,serif\;"><span style="color: rgb(34\, 34\, 34)\;">&bull\; Present your candidacy in a way that makes you stand out from the crowd. </span></span></span><br />\n	<span style="font-size: 14pt\;"><span style="font-family: times new roman\,serif\;"><span style="color: rgb(34\, 34\, 34)\;">To get the most benefit from these meetings\, please bring along a couple of copies of your r&eacute\;sum&eacute\;\, and any advertisements or job descriptions you&rsquo\;re interested in.</span></span></span><br />\n	&nbsp\;</i></font></font><br />\n	Mick asked that everyone bring a copy of their resume and job descriptions for positions that you have recently applied for\, or plan to apply. &nbsp\;He would like to do some hands-on interest job searching exercises\, so please bring your laptop\, or other Internet capable device. &nbsp\;</p>\n
LOCATION:Nashoba Valley Chamber of Commerce 100 Sherman Ave.\, Devens
UID:e.518.15134
SEQUENCE:3
DTSTAMP:20260426T042223Z
URL:http://nashoba.preview.gochambermaster.com/events/details/nashoba-valley-job-seekers-10-22-2013-10-22-2013-15134
END:VEVENT

END:VCALENDAR
