BEGIN:VCALENDAR
VERSION:2.0
PRODID:-//ChamberMaster//Event Calendar 2.0//EN
METHOD:PUBLISH
X-PUBLISHED-TTL:P3D
REFRESH-INTERVAL:P3D
CALSCALE:GREGORIAN
BEGIN:VEVENT
DTSTART:20140211T190000Z
DTEND:20140211T210000Z
X-MICROSOFT-CDO-ALLDAYEVENT:FALSE
SUMMARY:Nashoba Valley Job Seekers - 02/11/2014
DESCRIPTION:http://www.nashobavalleyjobseekers.com/\n\n	\n\n	The purpose of the Nashoba Valley Job Seekers Group is to provide leads\, ideas\, search strategies and encouragement for area job-seekers through face-to-face meetings and e-mail conversations.
X-ALT-DESC;FMTTYPE=text/html:<p align="CENTER" dir="LTR">\n	<br />\n	<span style="font-size:22px\;"><span style="font-family:times new roman\;">http://www.nashobavalleyjobseekers.com/</span></span><br />\n	<br />\n	<font face="Times New Roman" size="3"><font face="Times New Roman" size="3"><i><span style="font-size: 14pt\;"><span style="font-family: times new roman\,serif\;">The purpose of the Nashoba Valley Job Seekers Group is to provide leads\, ideas\, search strategies and encouragement for area job-seekers through face-to-face meetings and e-mail conversations.</span></span><br />\n	&nbsp\;</i></font></font><br />\n	<br />\n	&nbsp\;</p>\n
LOCATION:Nashoba Valley Chamber of Commerce 100 Sherman Ave.\, Devens
UID:e.518.16133
SEQUENCE:3
DTSTAMP:20260425T155308Z
URL:http://nashoba.preview.gochambermaster.com/events/details/nashoba-valley-job-seekers-02-11-2014-02-11-2014-16133
END:VEVENT

END:VCALENDAR
