BEGIN:VCALENDAR
VERSION:2.0
PRODID:-//ChamberMaster//Event Calendar 2.0//EN
METHOD:PUBLISH
X-PUBLISHED-TTL:P3D
REFRESH-INTERVAL:P3D
CALSCALE:GREGORIAN
BEGIN:VEVENT
DTSTART;VALUE=DATE:20140108
DTEND;VALUE=DATE:20140109
TRANSP:TRANSPARENT
X-MICROSOFT-CDO-ALLDAYEVENT:TRUE
SUMMARY:* MWCC Devens Medical Device Manufacturing Training
DESCRIPTION:Medical Device Manufacturing Training in partnership with Operon\n\n	\n\n	This 5 week evening noncredit program will prepare qualified candidates to gain the skills needed for entry level positions within a medical device manufacturing setting with Operon.\n\n	 \n\n	Interested in attending an information session?\n\n	Please contact:\n\n	Maegan Powers \n\n	Special Projects Assistant\n\n	MWCC Workforce Development\n\n	(978) 630-9242\n\n	mpowers3@mwcc.mass.edu\n\n	or the Workforce Development Dept.\n\n	(978) 630-9575\n\n	 \n\n	Who is eligible? Qualified candidates must have the following:\n\n	          High School Diploma or GED\n\n	          U.S. Citizen or a legal resident\n\n	          Authorized to work in the United States\n\n	 \n\n	\n\n	Some skills obtained:\n\n	\n		\n			Computer skills\n		\n			Industry skills\n		\n			Career Readiness\n		\n			Workplace Safety
X-ALT-DESC;FMTTYPE=text/html:<div style="margin-bottom: 6pt\; line-height: 118%\;">\n	<span style="font-family:franklin gothic book\,sans-serif\;"><span style="font-size:12pt\;">Medical Device Manufacturing Training in partnership with&nbsp\;</span></span><span style="font-family:franklin gothic book\,sans-serif\;"><span style="font-size:12pt\;">Operon</span></span><br />\n	<br />\n	<span style="font-family:franklin gothic book\,sans-serif\;"><span style="font-size:12pt\;">This 5 week evening noncredit program will prepare qualified candidates to gain the skills needed for entry level positions within a medical device manufacturing setting with&nbsp\;Operon.<br />\n	&nbsp\;</span></span><br />\n	<strong><span style="color:#006c64\;"><span style="font-family:franklin gothic book\,sans-serif\;"><span style="font-size:12.0pt\;">Interested in attending an information session?</span></span></span></strong><br />\n	<span style="font-family:franklin gothic book\,sans-serif\;"><span style="font-size:12pt\;">Please contact:<br />\n	Maegan Powers&nbsp\;<br />\n	Special Projects Assistant<br />\n	MWCC Workforce Development<br />\n	(978) 630-9242<br />\n	<a href="mailto:mpowers3@mwcc.mass.edu%0d"><span style="color:blue\;">mpowers3@mwcc.mass.edu</span></a></span><br />\n	or the Workforce Development Dept.<br />\n	(978) 630-9575<br />\n	&nbsp\;</span><br />\n	<span style="color:#006c64\;"><span style="font-family:franklin gothic book\,sans-serif\;"><span style="font-size:12.0pt\;">Who is eligible?&nbsp\;Qualified candidates must have the following:</span></span></span><br />\n	<span style="font-family:symbol\;"><span style="font-size:12pt\;">&middot\;&nbsp\;&nbsp\;&nbsp\;&nbsp\;&nbsp\;&nbsp\;&nbsp\;&nbsp\; </span></span><span style="font-family:franklin gothic book\,sans-serif\;"><span style="font-size:12pt\;">High School Diploma or GED</span></span><br />\n	<span style="font-family:symbol\;"><span style="font-size:12pt\;">&middot\;&nbsp\;&nbsp\;&nbsp\;&nbsp\;&nbsp\;&nbsp\;&nbsp\;&nbsp\; </span></span><span style="font-family:franklin gothic book\,sans-serif\;"><span style="font-size:12pt\;">U.S. Citizen or a legal resident</span></span><br />\n	<span style="font-family:symbol\;"><span style="font-size:12pt\;">&middot\;&nbsp\;&nbsp\;&nbsp\;&nbsp\;&nbsp\;&nbsp\;&nbsp\;&nbsp\; </span></span><span style="font-family:franklin gothic book\,sans-serif\;"><span style="font-size:12pt\;">Authorized to work in the United States</span></span><br />\n	&nbsp\;<br />\n	<br />\n	<span style="color:#006c64\;"><span style="font-family:franklin gothic book\,sans-serif\;"><span style="font-size:12.0pt\;">Some skills obtained:</span></span></span><br />\n	<ul>\n		<li style="margin-bottom:0.0001pt\;">\n			<span style="font-family:franklin gothic book\,sans-serif\;"><span style="font-size:12.0pt\;">Computer skills</span></span></li>\n		<li style="margin-bottom:0.0001pt\;">\n			<span style="font-family:franklin gothic book\,sans-serif\;"><span style="font-size:12.0pt\;">Industry skills</span></span></li>\n		<li style="margin-bottom:0.0001pt\;">\n			<span style="font-family:franklin gothic book\,sans-serif\;"><span style="font-size:12.0pt\;">Career Readiness</span></span></li>\n		<li style="margin-bottom:0.0001pt\;">\n			<span style="font-family:franklin gothic book\,sans-serif\;"><span style="font-size:12.0pt\;">Workplace Safety</span></span></li>\n	</ul>\n</div>\n<br />\n
LOCATION:
UID:e.518.16104
SEQUENCE:3
DTSTAMP:20260425T170739Z
URL:http://nashoba.preview.gochambermaster.com/events/details/mwcc-devens-medical-device-manufacturing-training-01-08-2014-16104
END:VEVENT

END:VCALENDAR
