BEGIN:VCALENDAR
VERSION:2.0
PRODID:-//ChamberMaster//Event Calendar 2.0//EN
METHOD:PUBLISH
X-PUBLISHED-TTL:P3D
REFRESH-INTERVAL:P3D
CALSCALE:GREGORIAN
BEGIN:VEVENT
DTSTART;VALUE=DATE:20140111
DTEND;VALUE=DATE:20140112
TRANSP:TRANSPARENT
X-MICROSOFT-CDO-ALLDAYEVENT:TRUE
SUMMARY:* Monty Tech's Practical Nursing pro­gram open house
DESCRIPTION:FITCHBURG   Monty Tech's Practical Nursing pro gram will hold an open house from 9 a.m. to noon on Satur day\, Jan. 11\, in the school's cafeteria.\n\n\n\nThose interested in jump starting a career in nursing are urged to find out more about the 10-month\, hands-on practical nursing curriculum.\n\n\n\nFaculty\, current students and alumni will be present to answer questions about the program and career opportu nities available to graduates. Fnancial aid is available\, and the G.I. Bill is accepted.\n\n\n\nInformation about the cur rent bachelor's degree bridge program with Fitchburg and Worcester state universities will be available.\n\n\n\nThe program is accredited on the state level as a Chapter 74 adult education program and nationally by the Council on Occupational Education.\n\n\n\nTours of the program's state-of-the-art facilities and demonstrations of high-tech medical equipment will be given. Refreshments will be served.\n\n\n\nFor information call 978-345-9200\, ext. 5220. Snow date is Saturday\, Jan. 25.\n\n\n\nMonty Tech is at 1050 West minster St.\, Route 2A\, at the Fitchburg-Westminster line.
X-ALT-DESC;FMTTYPE=text/html:<span style="color: rgb(51\, 51\, 51)\; font-family: 'lucida grande'\, tahoma\, verdana\, arial\, sans-serif\; font-size: 12.727272033691406px\; line-height: 17.99715805053711px\;">FITCHBURG &mdash\; Monty Tech&rsquo\;s Practical Nursing pro&shy\;gram will hold an open house from 9 a.m. to noon on Satur&shy\;day\, Jan. 11\, in the school&rsquo\;s cafeteria.</span><br style="color: rgb(51\, 51\, 51)\; font-family: 'lucida grande'\, tahoma\, verdana\, arial\, sans-serif\; font-size: 12.727272033691406px\; line-height: 17.99715805053711px\;" />\n<br style="color: rgb(51\, 51\, 51)\; font-family: 'lucida grande'\, tahoma\, verdana\, arial\, sans-serif\; font-size: 12.727272033691406px\; line-height: 17.99715805053711px\;" />\n<span style="color: rgb(51\, 51\, 51)\; font-family: 'lucida grande'\, tahoma\, verdana\, arial\, sans-serif\; font-size: 12.727272033691406px\; line-height: 17.99715805053711px\;">Those interested in jump&shy\;starting a career in nursing are urged to find out more about the 10-month\, hands-on practical nursing curriculum.</span><br style="color: rgb(51\, 51\, 51)\; font-family: 'lucida grande'\, tahoma\, verdana\, arial\, sans-serif\; font-size: 12.727272033691406px\; line-height: 17.99715805053711px\;" />\n<br style="color: rgb(51\, 51\, 51)\; font-family: 'lucida grande'\, tahoma\, verdana\, arial\, sans-serif\; font-size: 12.727272033691406px\; line-height: 17.99715805053711px\;" />\n<span style="color: rgb(51\, 51\, 51)\; font-family: 'lucida grande'\, tahoma\, verdana\, arial\, sans-serif\; font-size: 12.727272033691406px\; line-height: 17.99715805053711px\;">Faculty\, current students and alumni will be present to answer questions abou</span><span class="text_exposed_show" style="display: inline\; color: rgb(51\, 51\, 51)\; font-family: 'lucida grande'\, tahoma\, verdana\, arial\, sans-serif\; font-size: 12.727272033691406px\; line-height: 17.99715805053711px\;">t the program and career opportu&shy\;nities available to graduates. Fnancial aid is available\, and the G.I. Bill is accepted.<br />\n<br />\nInformation about the cur&shy\;rent bachelor&rsquo\;s degree bridge program with Fitchburg and Worcester state universities will be available.<br />\n<br />\nThe program is accredited on the state level as a Chapter 74 adult education program and nationally by the Council on Occupational Education.<br />\n<br />\nTours of the program&rsquo\;s state-of-the-art facilities and demonstrations of high-tech medical equipment will be given. Refreshments will be served.<br />\n<br />\nFor information call 978-345-9200\, ext. 5220. Snow date is Saturday\, Jan. 25.<br />\n<br />\nMonty Tech is at 1050 West&shy\;minster St.\, Route 2A\, at the Fitchburg-Westminster line.</span><br />\n<br />\n<br />\n
LOCATION:
UID:e.518.16018
SEQUENCE:3
DTSTAMP:20260425T182943Z
URL:http://nashoba.preview.gochambermaster.com/events/details/monty-tech-s-practical-nursing-pro-gram-open-house-01-11-2014-16018
END:VEVENT

END:VCALENDAR
