BEGIN:VCALENDAR
VERSION:2.0
PRODID:-//ChamberMaster//Event Calendar 2.0//EN
METHOD:PUBLISH
X-PUBLISHED-TTL:P3D
REFRESH-INTERVAL:P3D
CALSCALE:GREGORIAN
BEGIN:VEVENT
DTSTART:20140310T190000Z
DTEND:20140310T213000Z
X-MICROSOFT-CDO-ALLDAYEVENT:FALSE
SUMMARY:* Mini Exploratory Program at Nashoba Tech
DESCRIPTION:The dates have been set for our After School Mini-Exploratory Program. The program will be held on Mondays and Wednesdays in March - 3/10\,3/12\,3/17\, 3/19\,3/24 and 3/26.\n\nIf you are a seventh or eighth grade District student you can join us for our FREE program and transportation may be provided at no cost if enough students from each community participate.\n\n \n\n \n\n	Try out one of our 18 technical programs in exciting technical fields like: Culinary Arts\, Construction\, Health\,  Visual Arts\, Technology and more. \n \n\nRegister today to hold your spot \n\nby emailing Mr. McCann  at bmccann@nashoba.tec.ma.us or by calling 978-692-4711 ext.1123
X-ALT-DESC;FMTTYPE=text/html:<span style="font-size: 12px\;"><span style="font-family: verdana\,sans-serif\;">The dates have been set for our After School Mini-Exploratory Program. The program will be held on Mondays and Wednesdays in March - 3/10\,3/12\,3/17\, 3/19\,3/24 and 3/26.</span><br />\n<span style="font-family: verdana\,sans-serif\;">If you are a seventh or eighth grade District student you can join us for our <strong><span style="font-family: verdana\,sans-serif\;">FREE</span></strong> program and transportation&nbsp\;may be&nbsp\;provided at no cost if enough students from each community&nbsp\;participate.</span></span><br />\n&nbsp\;<br />\n&nbsp\;\n<div style="text-align: center\;">\n	<span style="font-size: 14px\;"><span style="font-family: verdana\,sans-serif\;">Try out one of our <a href="http://r20.rs6.net/tn.jsp?f=001OJRy12A6uXW_Ldo3416x4-ohSAX1m3tVAC3R432llJy5kf5MSntMj68lFmH6Q6MG44L9YbkGNStulFmp7scebB4IWxh_PF5byA7lRckQcFYFZuuc4rWbSKZEpDN-U4MoL9q5SNI2zhomGRWFw1SOcxYUArip52iFGHPRBU5TRqqfIUm2nE9aFP9s52dvQtcP5Flo6nHhJbN-Ag4BYZvfdMd1lKGft_AGM0Kd1gWqN_o=&amp\;c=N8webNK0bowtLcLw_mjMzYZcbXpvnPBiXGYDEF3B4SzjclQg5cGAtw==&amp\;ch=qdR_ed9CT9ntYOxH1RHwGbQOkyz_dk7xKzAh4Iww7sO_OZnvSUXFEw==" linktype="1" shape="rect" target="_blank" track="on">18 technical programs</a> in exciting technical fields like:&nbsp\;Culinary Arts\, Construction\, Health\,&nbsp\; Visual Arts\, Technology and more.&nbsp\;</span></span></div>\n&nbsp\;<br />\n<span style="font-size: 12px\;"><strong><span style="font-family: verdana\,sans-serif\;">Register today to hold your spot </span></strong><br />\n<span style="font-family: verdana\,sans-serif\;">by emailing Mr. McCann&nbsp\; at <span style="color: rgb(0\, 0\, 255)\;"><u>bmccann@nashoba.tec.ma.us </u></span>or by calling 978-692-4711 ext.1123</span></span><br />\n<br />\n<br type="_moz" />\n
LOCATION:Nashoba Valley Technical High School 100 Littleton Road Westford\, MA 01886
UID:e.518.16613
SEQUENCE:3
DTSTAMP:20260425T212950Z
URL:http://nashoba.preview.gochambermaster.com/events/details/mini-exploratory-program-at-nashoba-tech-03-10-2014-16613
END:VEVENT

END:VCALENDAR
