BEGIN:VCALENDAR
VERSION:2.0
PRODID:-//ChamberMaster//Event Calendar 2.0//EN
METHOD:PUBLISH
X-PUBLISHED-TTL:P3D
REFRESH-INTERVAL:P3D
CALSCALE:GREGORIAN
BEGIN:VEVENT
DTSTART:20140911T213000Z
DTEND:20140911T233000Z
X-MICROSOFT-CDO-ALLDAYEVENT:FALSE
SUMMARY:Member Only Event - Kimball Farm
DESCRIPTION:Registration Closed ~ Check out our other events at www.nvcoc.com\n\n\n\nJoin Nashoba Valley members only night at Kimball Farm in Westford!  Great opportunity to get  your fellow employees involved in the chamber!\n\n \n\nEach attendee will receive a wristband providing access to all activities (Bumper boats\, driving range\, 9-hole pitch & putt\, etc.)  AND Great American BBQ with Ice Cream Buffet.  Cash bar for alcoholic beverages. \n\n \n\nPark ONLY in "Corporate/Private Event Parking" section (back lot behind the grill/tent area). Additional parking across the street from Mini-Golf.  Please do not park directly in front of the Ice Cream Stand or Country Store area.
X-ALT-DESC;FMTTYPE=text/html:<br />\n<em><span style="color:firebrick\;"><span style="font-family:arial\,sans-serif\;"><span style="font-size:18.0pt\;">Registration Closed ~ Check out our other events at www.nvcoc.com</span></span></span></em><br />\n<br />\n<span style="font-size:12px\;"><span style="color:#D85E18\;"><span style="font-family:arial\,sans-serif\;">Join Nashoba Valley members only night at Kimball Farm in Westford!&nbsp\; Great opportunity to get&nbsp\; your fellow employees involved in the chamber!</span></span><br />\n&nbsp\;<br />\n<span style="color:#00511C\;"><span style="font-family:arial\,sans-serif\;">Each attendee will receive a wristband providing access to all activities (Bumper boats\, driving range\, 9-hole pitch &amp\; putt\, etc.)&nbsp\; AND Great American BBQ with Ice Cream Buffet.&nbsp\; Cash bar for alcoholic beverages.&nbsp\;</span></span><br />\n&nbsp\;<br />\n<span style="color:#9E0038\;">Park ONLY in &ldquo\;Corporate/Private Event Parking&rdquo\; section (back lot behind the grill/tent area). Additional parking across the street from Mini-Golf.&nbsp\;&nbsp\;<em><span style="font-family:calibri\,sans-serif\;">Please do not park directly in front of the Ice Cream Stand or Country Store area.</span></em></span></span><br />\n&nbsp\;
LOCATION:Kimball Farm 400 Littleton Road\, Westford
UID:e.518.17944
SEQUENCE:3
DTSTAMP:20260425T011448Z
URL:http://nashoba.preview.gochambermaster.com/events/details/member-only-event-kimball-farm-09-11-2014-17944
END:VEVENT

END:VCALENDAR
