BEGIN:VCALENDAR
VERSION:2.0
PRODID:-//ChamberMaster//Event Calendar 2.0//EN
METHOD:PUBLISH
X-PUBLISHED-TTL:P3D
REFRESH-INTERVAL:P3D
CALSCALE:GREGORIAN
BEGIN:VEVENT
DTSTART;VALUE=DATE:20140906
DTEND;VALUE=DATE:20140907
TRANSP:TRANSPARENT
X-MICROSOFT-CDO-ALLDAYEVENT:TRUE
SUMMARY:* Littleton MA Tercentennial Celebration - Town Fireworks
DESCRIPTION:http://littleton300.org/fireworks.html
X-ALT-DESC;FMTTYPE=text/html:http://littleton300.org/fireworks.html<br />\n<br />\n
LOCATION:
UID:e.518.12523
SEQUENCE:3
DTSTAMP:20260425T011349Z
URL:http://nashoba.preview.gochambermaster.com/events/details/littleton-ma-tercentennial-celebration-town-fireworks-09-06-2014-12523
END:VEVENT

END:VCALENDAR
