BEGIN:VCALENDAR
VERSION:2.0
PRODID:-//ChamberMaster//Event Calendar 2.0//EN
METHOD:PUBLISH
X-PUBLISHED-TTL:P3D
REFRESH-INTERVAL:P3D
CALSCALE:GREGORIAN
BEGIN:VEVENT
DTSTART;VALUE=DATE:20141115
DTEND;VALUE=DATE:20141116
TRANSP:TRANSPARENT
X-MICROSOFT-CDO-ALLDAYEVENT:TRUE
SUMMARY:* Learn How to Sword\, Worcester Art Museum\, Worcester
DESCRIPTION:11/15: Learn How to Sword\, Worcester Art Museum\, Worcester   In the drop-in workshop you will explore the technology and physicality of the longsword. How this weapon works is rooted in the development and interrelatedness of armor\, engineering\, and fighting goals. The class will be centered on some discussion of these points but more importantly exploring how to use a sword! $10/per person\, ages 8   adult.
X-ALT-DESC;FMTTYPE=text/html:<strong style="box-sizing: border-box\; line-height: 22.1760005950928px\; color: rgb(18\, 18\, 18)\; font-family: 'Droid Sans'\; font-size: 16px\;">11/15:&nbsp\;<a href="http://www.worcesterart.org/education/sword-classes/" style="box-sizing: border-box\; color: rgb(0\, 121\, 193)\; text-decoration: none\; line-height: inherit\; -webkit-transition: all 0.3s ease-in-out\; transition: all 0.3s ease-in-out\; outline: none\;" target="_blank">Learn How to Sword</a>\,&nbsp\;</strong><span style="color: rgb(18\, 18\, 18)\; font-family: 'Droid Sans'\; font-size: 16px\; line-height: 22.1760005950928px\;">Worcester Art Museum\, Worcester &ndash\;&nbsp\;In the drop-in workshop you&nbsp\;will explore the technology and physicality of the longsword. How this weapon works is rooted in the development and interrelatedness of armor\, engineering\, and fighting goals. The class will be centered on some discussion of these points but more importantly exploring how to use a sword! $10/per person\, ages 8 &ndash\; adult.</span><br />\n<br />\n&nbsp\;
LOCATION:
UID:e.518.18611
SEQUENCE:3
DTSTAMP:20260424T223408Z
URL:http://nashoba.preview.gochambermaster.com/events/details/learn-how-to-sword-worcester-art-museum-worcester-11-15-2014-18611
END:VEVENT

END:VCALENDAR
