BEGIN:VCALENDAR
VERSION:2.0
PRODID:-//ChamberMaster//Event Calendar 2.0//EN
METHOD:PUBLISH
X-PUBLISHED-TTL:P3D
REFRESH-INTERVAL:P3D
CALSCALE:GREGORIAN
BEGIN:VEVENT
DTSTART;VALUE=DATE:20141029
DTEND;VALUE=DATE:20141030
TRANSP:TRANSPARENT
X-MICROSOFT-CDO-ALLDAYEVENT:TRUE
SUMMARY:* LEARN HOW TO DO VIDEOGRAPHY FROM APAC (Ayer Public Access Corporation APAC)
DESCRIPTION:Ayer Public Access Corporation APAC and Ayer-Shirley Community Education will offer a video class for residents interested in making videos\, using APAC equipment\, which is available for making videos for Comcast Channel Nine.\n\n \n\nThe classes will begin Wednesday\, October 29 for four weekly sessions.  Classes will run from 6:30 to 8:30 pm at the Page Hilltop\n\nSchool\, 115 Washington Street. \n\n\n\nRegistration details will be available shortly on the APAC Bulletin Board and in the Fall\, Ayer-Shirley Community Education course bulletin\, which is published in the Nashoba Chronicle. Registration forms will also be available shortly on the APAC www.ayerpac.org  and Ayer Shirley Community Education page of the ASRSD website www.asrsd.org. If you can't wait until then\, call the Community Education Program at 978 772 8600\, Ext/ 1467
X-ALT-DESC;FMTTYPE=text/html:<br />\n<br />\n<br />\n<br />\n<span style="color:#262626\;"><span style="font-size:12.0pt\;">Ayer Public Access Corporation APAC and Ayer-Shirley Community Education will offer a video class for residents interested in making videos\, using APAC equipment\, which is available for making videos for Comcast Channel Nine.</span></span><br />\n&nbsp\;<br />\n<span style="font-family:calibri\,sans-serif\;"><span style="font-size:11.0pt\;">The classes will begin Wednesday\, October 29 for four weekly sessions. &nbsp\;Classes will run from 6:30 to 8:30 pm at the Page Hilltop<br />\nSchool\, 115 Washington Street.&nbsp\;<br />\n<br />\nRegistration details will be available shortly on the APAC&nbsp\;Bulletin Board&nbsp\;and in the Fall\, Ayer-Shirley Community Education course bulletin\, which is published in the <u>Nashoba Chronicle</u>. Registration forms will also be available shortly on the APAC <a href="http://www.ayerpac.org">www.ayerpac.org</a> &nbsp\;and Ayer Shirley Community Education page of the ASRSD website <a href="http://www.asrsd.org">www.asrsd.org</a>. If you can&rsquo\;t wait until then\, call the Community Education Program at 978 772 8600\, Ext/ 1467</span></span><br />\n<br />\n&nbsp\;
LOCATION:
UID:e.518.18091
SEQUENCE:3
DTSTAMP:20260425T000225Z
URL:http://nashoba.preview.gochambermaster.com/events/details/learn-how-to-do-videography-from-apac-ayer-public-access-corporation-apac-10-29-2014-18091
END:VEVENT

END:VCALENDAR
